BEGIN:VCALENDAR
PRODID:NingEventWidget-v1
VERSION:2.0
METHOD:PUBLISH
BEGIN:VEVENT
UID:2508951:Event:18901
DTSTAMP:20260421T122758Z
SUMMARY:BIG WIDE GRIN CONCERT @ THE A.R.E.
DESCRIPTION:Join us at Edgar Cayce’s A.R.E. for a special Benefit Co
 ncert featuring Big Wide Grin.\n\nThis bicoastal—from California to 
 Virginia—group of musicians, Elaine Dempsey, Lawrence Lambert, and K
 arl Werne, share their diverse backgrounds of experience with music an
 d theater to come together and create a rich, soulful blend of charact
 er and deep harmony that will move you to an understanding of their na
 me: Big Wide Grin ... :~)\n\nWine and nonalcoholic refreshments will b
 e available for purchase before the event and at intermission.\n\nAdva
 nce ticket purchases are recommended as we are expecting a full house!
 Tickets are $15 in advance (online sales end by noon 8/21), or $20 at 
 the door. Buy your ticket in advance or learn more here: http://www.fa
 cebook.com/l.php?u=http%3A%2F%2Fwww.edgarcayce.org%2Fare%2FvisitARE.as
 px%3Fid%3D1938&h=0b5be44e98d3ba5d31f4bfa0f92a3614\n\nFor more informat
 ion visit https://vbnightlife.com/events/big-wide-grin-concert-the-are
DTSTART:20090822T000000Z
DTEND:20090822T030000Z
CATEGORIES:concert
LOCATION:Association For Research and Enlightenment
WEBSITE:
URL:
CONTACT:
ORGANIZER;CN="VBnightlife.com":https://vbnightlife.com/profile/admin
ATTACH;FMTTYPE="image/jpeg":http://storage.ning.com/topology/rest/1.0/
 file/get/1664083008?profile=original
ATTENDEE;ROLE=REQ-PARTICIPANT;PARTSTAT=ACCEPTED;RSVP=TRUE;CN="VBnightl
 ife.com":https://vbnightlife.com/profile/admin
END:VEVENT
END:VCALENDAR
