BEGIN:VCALENDAR
PRODID:NingEventWidget-v1
VERSION:2.0
METHOD:PUBLISH
BEGIN:VEVENT
UID:2508951:Event:9126
DTSTAMP:20260425T160157Z
SUMMARY:BIG FUN @ TANNER'S CREEK featuring Bruce Gray
DESCRIPTION:See The Big Fun Band at Tanner's Creek on Colley Avenue in
  Norfolk, just before the bridge. This is the same place where Tango S
 torm, X-Raves and Daily Planet played after the Norva Reunion show Com
 e out and have some Big Fun\n\n9PM TO 1AM\nTanner's Creek Restaurant o
 n Colley Ave\n\nFor more information visit https://vbnightlife.com/eve
 nts/big-fun-tanners-creek
DTSTART:20090403T040000Z
DTEND:20090404T035900Z
CATEGORIES:concert
LOCATION:Tanner's Creek Restaurant
WEBSITE:
URL:
CONTACT:
ORGANIZER:Tanner's Creek
ATTACH;FMTTYPE="image/jpeg":http://storage.ning.com/topology/rest/1.0/
 file/get/1664069739?profile=original
ATTENDEE;ROLE=REQ-PARTICIPANT;PARTSTAT=ACCEPTED;RSVP=TRUE;CN="Nicole M
 axino":https://vbnightlife.com/profile/NicoleMaxino
END:VEVENT
END:VCALENDAR
