BEGIN:VCALENDAR
PRODID:NingEventWidget-v1
VERSION:2.0
METHOD:PUBLISH
BEGIN:VEVENT
UID:2508951:Event:13899
DTSTAMP:20260419T141136Z
SUMMARY:Benifit for WOUNDED SOLDIERS / IRAQ
DESCRIPTION:PARADOCKS EAST COAST GRILLE - Eden Way - Chesapeake ** PAR
 KING LOT PARTY ** Noon - Closing\n\n$10 cover buys food, refreshment a
 nd game tickets\nMUSIC SO FAR :\nROBBIE JORDAN BAND\nTHE MUCKRAKES\nJA
 SON SWAIN\nmore info later\n\nFor more information visit https://vbnig
 htlife.com/events/benifit-for-wounded-soldiers
DTSTART:20090530T040000Z
DTEND:20090531T035900Z
CATEGORIES:fundraiser
LOCATION:Chesapeake
WEBSITE:
URL:
CONTACT:
ORGANIZER;CN="Nicole Maxino":https://vbnightlife.com/profile/NicoleMax
 ino
ATTACH;FMTTYPE="image/jpeg":
ATTENDEE;ROLE=REQ-PARTICIPANT;PARTSTAT=ACCEPTED;RSVP=TRUE;CN="Nicole M
 axino":https://vbnightlife.com/profile/NicoleMaxino
END:VEVENT
END:VCALENDAR
