BEGIN:VCALENDAR
PRODID:NingEventWidget-v1
VERSION:2.0
METHOD:PUBLISH
BEGIN:VEVENT
UID:2508951:Event:301154
DTSTAMP:20260423T002535Z
SUMMARY:BENEFIT FOR THE NOBLEMEN AT AMMOS AUTHENTIC GREEK CUISINE
DESCRIPTION:Stop by Ammos Authentic Greek Cuisine and enjoy your favo
 rite Greek Appetizers, Entrees and Desserts!.  They also offer FRESH,
  delicious Seafood entrees!  They have a full bar, along with importe
 d Wines and Beers. 20% of the proceeds from every purchase goes to The
  Noblemen! \n\nDirections: 324 N Great Neck Rd, Virginia Beach, VA 2
 3454\nDrop by or call for reservations: 757 340 4343  \nThe Noblemen
  is a 501(c)3 non-profit organization based out of Virginia Beach, Vir
 ginia which includes members located throughout the Hampton Roads reg
 ion. The Noblemen mission is to identify and perform Noble Deeds for 
 great local kids who are in need of help. We hope that you will visit 
 our website often and learn how you can join us as we continue \"He
 lping Kids. And Changing Lives\"!\n\n \n\n324 N Great Neck Rd, Virgin
 ia Beach, VA 23454\n\n\n\n\n\n\n \n\nFor more information visit https
 ://vbnightlife.com/events/benefit-for-the-noblemen-at-ammos-authentic-
 greek-cuisine
DTSTART:20141111T223000Z
DTEND:20141112T020000Z
CATEGORIES:fundraiser, "the noblemen", "ammos authentic greek"
LOCATION:AMMOS AUTHENTIC GREEK CUISINE
WEBSITE:
URL:
CONTACT:757 652 0808
ORGANIZER:VBnightlife.com / The Noblemen
ATTACH;FMTTYPE="image/jpeg":http://storage.ning.com/topology/rest/1.0/
 file/get/1664253876?profile=original
ATTENDEE;ROLE=REQ-PARTICIPANT;PARTSTAT=ACCEPTED;RSVP=TRUE;CN="VBnightl
 ife.com":https://vbnightlife.com/profile/admin
END:VEVENT
END:VCALENDAR
