BEGIN:VCALENDAR
PRODID:NingEventWidget-v1
VERSION:2.0
METHOD:PUBLISH
BEGIN:VEVENT
UID:2508951:Event:335856
DTSTAMP:20260422T060807Z
SUMMARY:Benefit for Officer Nick Johnson
DESCRIPTION:Cancer messed with the wrong Gladiator!! Please Join us fo
 r a fun filled event to raise funds to benefit Nick Johnson. As many a
 lready know Nick was diagnosed with Stage 2 Non-Hodgkin's Lymphoma and
  has already began treatment. Nick is unable work do to the aggresive 
 treatment plan, but that is where our part begins. Our goal is to reli
 eve Nick of any financial burden that may occur during the duration of
  his treatment. Please join us for a fun filled event with raffles, si
 lent auctions, music, and more! There will be a $10 Cover Charge at th
 e door, and all proceeds from the event will be given directly to Nick
 . If you have any questions about the event or would like to make a do
 nation please contact Jessica Wiggins,(757-333-1681) Lauren Wright (75
 7-572-4439), or Nikki Midkiff (757-778-0673). Please Share The Event a
 nd let's do it big for NickyJ. #teamnickyj \"He Protects Us, Now Let'
 s Protect Him!\"  Nick is aware that something is \"brewing\" for him,
  however PLEASE do not share any of the details with him, we want as m
 uch of this to be a surprise to him so we can show him how much suppor
 t he really has!!\n\nBrandon Patrick Bower\nBrent Shepard\nNay nay\nBr
 yan Mahon,\nGrant Austin Taylor\nRyan Hines\nKevin Mac\nInlay Man Term
 s\n\n\nFor more information visit https://vbnightlife.com/events/benef
 it-for-officer-nick-johnson
DTSTART:20160403T160000Z
DTEND:20160403T210000Z
CATEGORIES:"virginia beach", "virginia beach nightlife", "virginia bea
 ch bands", "virginia beach entertainment"
LOCATION:EAGLE'S NEST VIRGINIA BEACH
WEBSITE:
URL:
CONTACT:
ORGANIZER:VBnightlife.com / vbdaylife
ATTACH;FMTTYPE="image/jpeg":http://storage.ning.com/topology/rest/1.0/
 file/get/1664306835?profile=original
ATTENDEE;ROLE=REQ-PARTICIPANT;PARTSTAT=ACCEPTED;RSVP=TRUE;CN="VBnightl
 ife.com":https://vbnightlife.com/profile/admin
END:VEVENT
END:VCALENDAR
