BEGIN:VCALENDAR
PRODID:NingEventWidget-v1
VERSION:2.0
METHOD:PUBLISH
BEGIN:VEVENT
UID:2508951:Event:299363
DTSTAMP:20260422T135612Z
SUMMARY:Benefit for Mike Bremus w/ Live Music All Day and Tons of Raff
 le and Silent Auction Items
DESCRIPTION:Purchase your tickets at the Door.  100% of Proceeds to B
 enefit Mike\nWhy you should support this cause?\n\nMichael Bremus is a
  father, husband and friend to many and needs our help\nMichael is cur
 rently in \"Blast Crisis\" after a nine year remission of his diagnose
 d CML Leukemia. (read more about his story here:  http://www.gofundme
 .com/FH6T9O\nHelp Mike fund his Bone Marrow Search/Transplant, Chemoth
 erapy, Medical Bills, and aftercare at VCU-which will be getting under
 way in January, 2015.\nWin Raffles and participate in the Silent Aucti
 on - thousands of dollars of prizes, restaurant and other gift cards, 
 concert tickets, hotel stays, Adventure Park passes and many more item
 s generously donated by local businesses. \nFabulous Bands all day: 
 Headliners: The Moaning Lisas and the Mighty Buskers MC'ed by DIVAS A
 mour Diamond and Fushia Deville!! \nSee complete band schedule and pa
 rtilal list of raffle items below\n\nCome out, have a great time, make
  new friends and support Mike!\n100% of proceeds to benefit Mike and h
 is family\nRead more about Mike here: http://www.gofundme.com/FH6T9O\
 n\n \n\n\n\nFor more information visit https://vbnightlife.com/events
 /benefit-for-mike-bremus
DTSTART:20141108T190000Z
DTEND:20141109T050000Z
CATEGORIES:fundraiser, "mike bremus"
LOCATION:AJ Gators (Formerly Knuckleheads)
WEBSITE:
URL:
CONTACT:
ORGANIZER;CN="VBnightlife.com":https://vbnightlife.com/profile/admin
ATTACH;FMTTYPE="image/jpeg":http://storage.ning.com/topology/rest/1.0/
 file/get/1664252828?profile=original
ATTENDEE;ROLE=REQ-PARTICIPANT;PARTSTAT=ACCEPTED;RSVP=TRUE;CN="Rolan St
 ears":https://vbnightlife.com/profile/RolanStears
ATTENDEE;ROLE=REQ-PARTICIPANT;PARTSTAT=ACCEPTED;RSVP=TRUE;CN="VBnightl
 ife.com":https://vbnightlife.com/profile/admin
END:VEVENT
END:VCALENDAR
