BEGIN:VCALENDAR
PRODID:NingEventWidget-v1
VERSION:2.0
METHOD:PUBLISH
BEGIN:VEVENT
UID:2508951:Event:300827
DTSTAMP:20260422T224853Z
SUMMARY:BENEFIT FOR CASA AT AMMOS AUTHENTIC GREEK CUISINE
DESCRIPTION:Stop by Ammos Authentic Greek Cuisine and enjoy your favor
 ite Greek Appetizers, Entrees and Desserts!.  They also offer FRESH, 
 delicious Seafood entrees!  They have a full bar, along with imported
  Wines and Beers. 20% tonights proceeds from every purchase go to Virg
 inia Beach CASA\n\nDirections: 324 N Great Neck Rd, Virginia Beach, V
 A 23454\nDrop by or call for reservations: 757 340 4343  \nFor more 
 than 25 years Virginia Beach CASA has recruited, trained, and supporte
 d volunteers to advocate for child victims of abuse and neglect who ar
 e currently in judicial proceedings.  CASA volunteers have contribute
 d thousands of hours visiting children in their temporary homes, resea
 rching the child’s circumstances to determine possible placement out
 comes, and insuring the children are not experiencing continued abuse 
 or neglect.  CASA volunteers advocate for children until a safe, perm
 anent home is determined. \n \n\nFor more information visit https://
 vbnightlife.com/events/benefit-for-casa-at-ammos-authentic-greek-cuisi
 ne
DTSTART:20141111T230000Z
DTEND:20141112T020000Z
CATEGORIES:fundraiser, "virginia beach casa", "ammos authentic greek"
LOCATION:AMMOS AUTHENTIC GREEK CUISINE
WEBSITE:
URL:
CONTACT:757 652 0808
ORGANIZER:VBnightlife.com / Virginia Beach CASA
ATTACH;FMTTYPE="image/jpeg":http://storage.ning.com/topology/rest/1.0/
 file/get/1664254806?profile=original
ATTENDEE;ROLE=REQ-PARTICIPANT;PARTSTAT=ACCEPTED;RSVP=TRUE;CN="Rolan St
 ears":https://vbnightlife.com/profile/RolanStears
ATTENDEE;ROLE=REQ-PARTICIPANT;PARTSTAT=ACCEPTED;RSVP=TRUE;CN="VBnightl
 ife.com":https://vbnightlife.com/profile/admin
END:VEVENT
END:VCALENDAR
