BEGIN:VCALENDAR
PRODID:NingEventWidget-v1
VERSION:2.0
METHOD:PUBLISH
BEGIN:VEVENT
UID:2508951:Event:215085
DTSTAMP:20260420T035416Z
SUMMARY:Whole Foods Special Guest Speaker, Joseff Boyer \"Becoming a N
 ew You in 90 Days\"
DESCRIPTION:Becoming a New You in 90 Days Through an All Natural Cellu
 lar Health Approach\nFormer hospice/rehab nurse who has been teaching 
 lifestyle balance for the last 15 years, Beach Wellness Owner Joseff B
 oyer will speak on “Becoming a New You in 90 Days Through an All Nat
 ural Cellular Health Approach.\nThe lecture is free but space is limit
 ed. Please register by calling 422-0444 or email VABevents@wholefoods.
 com. Please put event name and date in subject line.\n\n\nFor more inf
 ormation visit https://vbnightlife.com/events/becoming-a-new-you-in-90
 -days-through-an-all-natural-cellular
DTSTART:20130323T140000Z
DTEND:20130323T150000Z
CATEGORIES:educational, wellness, seminar
LOCATION:Whole Foods
WEBSITE:http://t.co/e8fzVerZDg
URL:http://t.co/e8fzVerZDg
CONTACT:757-422-0444
ORGANIZER;CN="Joseff Boyer":https://vbnightlife.com/profile/JoseffBoye
 r
ATTACH;FMTTYPE="image/jpeg":http://storage.ning.com/topology/rest/1.0/
 file/get/1664189234?profile=original
ATTENDEE;ROLE=REQ-PARTICIPANT;PARTSTAT=ACCEPTED;RSVP=TRUE;CN="Joseff B
 oyer":https://vbnightlife.com/profile/JoseffBoyer
END:VEVENT
END:VCALENDAR
