BEGIN:VCALENDAR
PRODID:NingEventWidget-v1
VERSION:2.0
METHOD:PUBLISH
BEGIN:VEVENT
UID:2508951:Event:323893
DTSTAMP:20260423T052033Z
SUMMARY:Bebop & Rock Steady
DESCRIPTION:Bebop & Rock Steady featuring Patrick Kilduff playing all 
 the rock and country hits from the 70's thru today's top 40.\n\nFor mo
 re information visit https://vbnightlife.com/events/bebop-rock-steady
DTSTART:20160120T233000Z
DTEND:20160121T033000Z
CATEGORIES:live, band
LOCATION:Busky's Chill & Grill in Great Bridge
WEBSITE:
URL:
CONTACT:
ORGANIZER:Anna D.Worrell for Endless Mic Entertainment
ATTACH;FMTTYPE="image/jpeg":http://storage.ning.com/topology/rest/1.0/
 file/get/1664298669?profile=original
ATTENDEE;ROLE=REQ-PARTICIPANT;PARTSTAT=ACCEPTED;RSVP=TRUE;CN="Anna D.W
 orrell":https://vbnightlife.com/profile/AnnaDWorrell
END:VEVENT
END:VCALENDAR
