BEGIN:VCALENDAR
PRODID:NingEventWidget-v1
VERSION:2.0
METHOD:PUBLISH
BEGIN:VEVENT
UID:2508951:Event:204363
DTSTAMP:20260422T135904Z
SUMMARY:BEACH BLAST / AIR SHOW DEMO w/ the BRITISH RED DEVILS and BLUE
  ANGELS PRESENTATION AT THE OCEANFRONT
DESCRIPTION:\nSaturday Evening, Beach Blast at 31st Street, Virginia B
 each Oceanfront\n6:30 p.m. This event is free and open to the public. 
 Beach Blast begins with a free concert. When the sun sets, the F/A-18 
 Super Hornet from the “Sunliners” of VFA-81 will demonstrate an af
 terburner flyover, immediately followed by the British Red Devils para
 chute jump onto the beach. Once the jumpers have been presented to the
  crowd, the U.S. Navy Blue Angels will take the stage to introduce the
  2012 Blue Angel team. Music and entertainment with Against All Odds c
 ontinues until the event’s conclusion at 10 p.m. Parking is availabl
 e in the parking structure on the corner of 31st Street and Atlantic A
 venue.\n\n\n\n\n\n\n\nFor more information visit https://vbnightlife.c
 om/events/beach-blast-air-show-demo-at-the-oceanfront
DTSTART:20120915T223000Z
DTEND:20120916T020000Z
CATEGORIES:party
LOCATION:31ST STREET PARK
WEBSITE:
URL:
CONTACT:
ORGANIZER;CN="VBnightlife.com":https://vbnightlife.com/profile/admin
ATTACH;FMTTYPE="image/jpeg":http://storage.ning.com/topology/rest/1.0/
 file/get/1664181541?profile=original
ATTENDEE;ROLE=REQ-PARTICIPANT;PARTSTAT=ACCEPTED;RSVP=TRUE;CN="VBnightl
 ife.com":https://vbnightlife.com/profile/admin
END:VEVENT
END:VCALENDAR
