BEGIN:VCALENDAR
PRODID:NingEventWidget-v1
VERSION:2.0
METHOD:PUBLISH
BEGIN:VEVENT
UID:2508951:Event:211241
DTSTAMP:20260420T092520Z
SUMMARY:Be The Match Silent Auction
DESCRIPTION:On February 21, the Virginia Beach Jaycees will host the f
 irst Be The Match Silent Auction at Gordon Biersch in Town Center, Vir
 ginia Beach from 6 to 9pm.\n \nBe The Match Registry, or the National
  Marrow Donor Program, is the world’s largest and most diverse regis
 try of potential marrow donors and donated cord blood units. With more
  than 9.5 million potential donors, our growing registry is helping mo
 re patients than ever before get the transplant they need.  Our effort
 s may add many names to the Be The Match Registry of unrelated marrow 
 and blood cell donors in memory of Keith and other patients hoping for
  a match. Be The Match is a federally funded nonprofit organization th
 at maintains a database of volunteers willing to donate a portion of t
 heir marrow or blood-forming cells to patients in need of a transplant
 . The growth of the Registry gives increased hope to the thousands of 
 patients who are looking for a matched donor.\n\n\nFor more informatio
 n visit https://vbnightlife.com/events/be-the-match-silent-auction
DTSTART:20130221T230000Z
DTEND:20130222T020000Z
CATEGORIES:fundraiser, "silent auction ", virginia, beach, "jaycees\""
LOCATION:Gordon Biersch in Town Center
WEBSITE:https://maps.google.com/
URL:https://maps.google.com/
CONTACT:
ORGANIZER:Virginia Beach Jaycees
ATTACH;FMTTYPE="image/jpeg":http://storage.ning.com/topology/rest/1.0/
 file/get/1664186302?profile=original
ATTENDEE;ROLE=REQ-PARTICIPANT;PARTSTAT=ACCEPTED;RSVP=TRUE;CN="Rolan St
 ears":https://vbnightlife.com/profile/RolanStears
ATTENDEE;ROLE=REQ-PARTICIPANT;PARTSTAT=ACCEPTED;RSVP=TRUE;CN="Linda Ki
 ng":https://vbnightlife.com/profile/LindaKing
END:VEVENT
END:VCALENDAR
