BEGIN:VCALENDAR
PRODID:NingEventWidget-v1
VERSION:2.0
METHOD:PUBLISH
BEGIN:VEVENT
UID:2508951:Event:323188
DTSTAMP:20260423T111921Z
SUMMARY:Bahama Breeze’s Island Junkanoo New Year’s Bash!
DESCRIPTION:Ring in 2016 island style during Bahama Breeze’s Island 
 Junkanoo New Year’s Eve Bash. From 9pm-close, enjoy a four-course me
 al for only $45 and drink specials all night long. Live music, body pa
 inting and a tropical toast will also help start the new year off righ
 t! \n\nFor more information visit https://vbnightlife.com/events/baha
 ma-breeze-s-island-junkanoo-new-year-s-bash
DTSTART:20160101T020000Z
DTEND:20160101T060000Z
CATEGORIES:nye, "bash!"
LOCATION:Bahama Breeze
WEBSITE:http://www.bahamabreeze.com/home
URL:http://www.bahamabreeze.com/home
CONTACT:7574733264
ORGANIZER;CN="Katelyn Pecorelli":https://vbnightlife.com/profile/Katel
 ynPecorelli
ATTACH;FMTTYPE="image/jpeg":http://storage.ning.com/topology/rest/1.0/
 file/get/1664296485?profile=original
ATTENDEE;ROLE=REQ-PARTICIPANT;PARTSTAT=ACCEPTED;RSVP=TRUE;CN="Katelyn 
 Pecorelli":https://vbnightlife.com/profile/KatelynPecorelli
END:VEVENT
END:VCALENDAR
