BEGIN:VCALENDAR
PRODID:NingEventWidget-v1
VERSION:2.0
METHOD:PUBLISH
BEGIN:VEVENT
UID:2508951:Event:13090
DTSTAMP:20260425T213539Z
SUMMARY:BADDADZ @ THE THIRSTY CAMEL
DESCRIPTION:8pm to 12am\n\nTHE THIRSTY CAMEL - www.thethirstycamelonli
 ne.com\n\n394 West Ocean View Ave, Norfolk, VA 23503 4th View in Ocean
  View beside the Ocean View fishing pier.\n\nFor more information visi
 t https://vbnightlife.com/events/baddadz-the-thirsty-camel
DTSTART:20090507T040000Z
DTEND:20090508T035900Z
CATEGORIES:band
LOCATION:The Thirsty Camel
WEBSITE:
URL:
CONTACT:
ORGANIZER;CN="Nicole Maxino":https://vbnightlife.com/profile/NicoleMax
 ino
ATTACH;FMTTYPE="image/jpeg":http://storage.ning.com/topology/rest/1.0/
 file/get/1664073540?profile=original
ATTENDEE;ROLE=REQ-PARTICIPANT;PARTSTAT=ACCEPTED;RSVP=TRUE;CN="Nicole M
 axino":https://vbnightlife.com/profile/NicoleMaxino
END:VEVENT
END:VCALENDAR
