BEGIN:VCALENDAR
PRODID:NingEventWidget-v1
VERSION:2.0
METHOD:PUBLISH
BEGIN:VEVENT
UID:2508951:Event:13086
DTSTAMP:20260425T142437Z
SUMMARY:BADDADZ @ GREENIES
DESCRIPTION:8pm to 12am\n\nFor more information visit https://vbnightl
 ife.com/events/baddadz-greenies
DTSTART:20090505T220000Z
DTEND:20090505T230000Z
CATEGORIES:band
LOCATION:Greenies - Norfolk
WEBSITE:
URL:
CONTACT:
ORGANIZER;CN="Nicole Maxino":https://vbnightlife.com/profile/NicoleMax
 ino
ATTACH;FMTTYPE="image/jpeg":http://storage.ning.com/topology/rest/1.0/
 file/get/1664073421?profile=original
ATTENDEE;ROLE=REQ-PARTICIPANT;PARTSTAT=ACCEPTED;RSVP=TRUE;CN="Nicole M
 axino":https://vbnightlife.com/profile/NicoleMaxino
END:VEVENT
END:VCALENDAR
