BEGIN:VCALENDAR
PRODID:NingEventWidget-v1
VERSION:2.0
METHOD:PUBLISH
BEGIN:VEVENT
UID:2508951:Event:201308
DTSTAMP:20260423T104644Z
SUMMARY:BACK TO SCHOOL BASH
DESCRIPTION:  Back to School Bash All About Kids! Lynnhaven Mall Virgi
 nia Beach, VA August 11, 2012 11:00 a.m. – 4:00 p.m.\nThis wonderful
  annual event provides sponsors with a unique opportunity to promote c
 ommunity, good health, educational success and connect your business t
 o a powerful consumer. Over 73% of our readers are women who juggle en
 tire households and make the buying decisions. Back to School Bash is 
 a free event that provides 100 backpacks filled with school supplies f
 or the first 100 kids entering first grade and free health screenings,
  community vendor resources, and free kids’ activities. Activities i
 nclude…a Back-To-School Fashion Show, dental and vision evaluations 
 or register to win a $500 Back to School Gift Certificate and merchand
 ise.\nRegister to Win a $500 Gift Package and other great prizes\nAlso
 , don't forget to enter to WIN a family 4-pack to see Big Time Rush pl
 ay at the VA Beach Farm Bureau Live!\n\nFor more information visit ht
 tps://vbnightlife.com/events/back-to-school-bash
DTSTART:20120811T150000Z
DTEND:20120811T200000Z
CATEGORIES:"family fun"
LOCATION:LYNNHAVEN MALL
WEBSITE:
URL:
CONTACT:
ORGANIZER:VBnightlife.com / VBdaylife.com
ATTACH;FMTTYPE="image/jpeg":http://storage.ning.com/topology/rest/1.0/
 file/get/1664177137?profile=original
ATTENDEE;ROLE=REQ-PARTICIPANT;PARTSTAT=ACCEPTED;RSVP=TRUE;CN="VBnightl
 ife.com":https://vbnightlife.com/profile/admin
END:VEVENT
END:VCALENDAR
