BEGIN:VCALENDAR
PRODID:NingEventWidget-v1
VERSION:2.0
METHOD:PUBLISH
BEGIN:VEVENT
UID:2508951:Event:312105
DTSTAMP:20260425T080013Z
SUMMARY:Award Winning Country Music Artist Luke Bryan at Farm Bureau L
 ive
DESCRIPTION:Luke Bryan, Randy Houser, Dustin Lynch\nPurchase Tickets
  Here;\nhttp://concerts.livenation.com/event/01004E67C65038E9?tm_link=
 artist_msg-0_01004E67C65038E9&crosssite=TM_US:1044173:8370\n\n\nAlbums
 \n\n\n2007: I'll Stay Me\n2009: Doin' My Thing\n2011: Tailgates & T
 anlines\n2013: Crash My Party\n2015: Kill the Lights\n\n\nFor more i
 nformation visit https://vbnightlife.com/events/award-winning-country-
 music-artist-luke-bryan-at-farm-bureau-live
DTSTART:20150625T230000Z
DTEND:20150626T030000Z
CATEGORIES:concert, "luke bryan"
LOCATION:Farm Bureau Live
WEBSITE:http://concerts.livenation.com/event/01004E67C65038E9?tm_link=
 artist_msg-0_01004E67C65038E9&crosssite=TM_US:1044173:8370
URL:http://concerts.livenation.com/event/01004E67C65038E9?tm_link=arti
 st_msg-0_01004E67C65038E9&crosssite=TM_US:1044173:8370
CONTACT:
ORGANIZER:VBnightlife.com / vbdaylife
ATTACH;FMTTYPE="image/jpeg":http://storage.ning.com/topology/rest/1.0/
 file/get/1664276380?profile=original
ATTENDEE;ROLE=REQ-PARTICIPANT;PARTSTAT=ACCEPTED;RSVP=TRUE;CN="VBnightl
 ife.com":https://vbnightlife.com/profile/admin
END:VEVENT
END:VCALENDAR
