BEGIN:VCALENDAR
PRODID:NingEventWidget-v1
VERSION:2.0
METHOD:PUBLISH
BEGIN:VEVENT
UID:2508951:Event:7393
DTSTAMP:20260422T090242Z
SUMMARY:AVERELL CARTER @ THE FUNNY BONE
DESCRIPTION:Averell Carter\n\nAverell had been dazzling audiences thro
 ughout the country! Appearences include HBO, Showtime and Comedy Centr
 al. You definitely don't want to miss this show!\n\nShow Times\nWednes
 day, March 04, 2009\n8:00 PM\n\nFor more information visit https://vbn
 ightlife.com/events/averell-carter-the-funny-bone
DTSTART:20090303T230000Z
DTEND:20090304T000000Z
CATEGORIES:comedy
LOCATION:Funny Bone Comedy Club and Restaurant
WEBSITE:
URL:
CONTACT:
ORGANIZER:Funny Bone Comedy Club and Restaurant
ATTACH;FMTTYPE="image/jpeg":http://storage.ning.com/topology/rest/1.0/
 file/get/1664069271?profile=original
ATTENDEE;ROLE=REQ-PARTICIPANT;PARTSTAT=ACCEPTED;RSVP=TRUE;CN="Nicole M
 axino":https://vbnightlife.com/profile/NicoleMaxino
END:VEVENT
END:VCALENDAR
