BEGIN:VCALENDAR
PRODID:NingEventWidget-v1
VERSION:2.0
METHOD:PUBLISH
BEGIN:VEVENT
UID:2508951:Event:10070
DTSTAMP:20260425T142814Z
SUMMARY:AVANTI HAPPY HOUR 6PM - 9PM
DESCRIPTION:FOR AFTER WORK DINNER RESERVATIONS AND GROUP PARTYS PLEASE
  CONTACT TIFFANY @ 292-8600\n\nFor more information visit https://vbni
 ghtlife.com/events/avanti-happy-hour-6pm-9pm
DTSTART:20090407T220000Z
DTEND:20090410T010000Z
CATEGORIES:happy, hour
LOCATION:AVANTI
WEBSITE:http://MYSPACE.COM/AVANTIVB
URL:http://MYSPACE.COM/AVANTIVB
CONTACT:757-292-8600
ORGANIZER:AVANTI
ATTACH;FMTTYPE="image/jpeg":http://storage.ning.com/topology/rest/1.0/
 file/get/1664069859?profile=original
ATTENDEE;ROLE=REQ-PARTICIPANT;PARTSTAT=ACCEPTED;RSVP=TRUE;CN=Tiffany:h
 ttps://vbnightlife.com/profile/Tiffany
END:VEVENT
END:VCALENDAR
