BEGIN:VCALENDAR
PRODID:NingEventWidget-v1
VERSION:2.0
METHOD:PUBLISH
BEGIN:VEVENT
UID:2508951:Event:188870
DTSTAMP:20260423T102039Z
SUMMARY:Autism Society Night w/ The Norfolk Admirals!
DESCRIPTION:Join us for an Autism Society Night at the Norfolk Scope A
 rena for a Norfolk Admiral's game! The game starts at 7:15! The price 
 of admission has been dropped to $10 per person, and the Autism Societ
 y, Tidewater chapter will receive a portion of ticket sales! In additi
 on, our group will be seated in the same section! To order tickets onl
 ine (and receive the discounted rate), go to http://www.norfolkadm....
  In order for Autism Society, Tidewater, to get the credit, you must c
 hoose from list and scroll to the \"Autism Society Night\" and enter t
 he Special offer Code AST12 (all Caps). It will also be skate with the
  Admirals night so bring skates if you have them, and the kids can ska
 te with the players after the game! There will be a limited number of 
 skates available for use at the game. A waiver must be signed at custo
 mer relations to participate. We look forward to a fun night of hockey
  and a chance to raise some money for our cause!!\n\nFor more informat
 ion visit https://vbnightlife.com/events/autism-society-night-w-the-no
 rfolk-admirals
DTSTART:20120219T000000Z
DTEND:20120219T030000Z
CATEGORIES:fundraiser
LOCATION:Norfolk
WEBSITE:
URL:
CONTACT:
ORGANIZER;CN="VBnightlife.com":https://vbnightlife.com/profile/admin
ATTACH;FMTTYPE="image/jpeg":http://storage.ning.com/topology/rest/1.0/
 file/get/1664160295?profile=original
ATTENDEE;ROLE=REQ-PARTICIPANT;PARTSTAT=ACCEPTED;RSVP=TRUE;CN="VBnightl
 ife.com":https://vbnightlife.com/profile/admin
END:VEVENT
END:VCALENDAR
