BEGIN:VCALENDAR
PRODID:NingEventWidget-v1
VERSION:2.0
METHOD:PUBLISH
BEGIN:VEVENT
UID:2508951:Event:181936
DTSTAMP:20260420T182255Z
SUMMARY:AUDIO SAUCE AT SOUTH BEACH GRILL
DESCRIPTION:Audio Sauce is comprised of seasoned and well known local 
 musicians, Audio Sauce has created a unique blend of mixed-genre rock,
  beach, R & B, party and dance music that excites and entertains audie
 nces of all ages!\nÂ \nThese members come from Parallel Minds, Beech S
 treetz, Fuzzbox and Dynamohum!Â  Don't miss this exciting new band!\nÂ
  \n9:30 to close\n\nFor more information visit https://vbnightlife.com
 /events/audio-sauce-at-south-beach-grill
DTSTART:20111119T050000Z
DTEND:20111120T045900Z
CATEGORIES:band
LOCATION:South Beach Grill
WEBSITE:
URL:
CONTACT:
ORGANIZER;CN="VBnightlife.com":https://vbnightlife.com/profile/admin
ATTACH;FMTTYPE="image/jpeg":http://storage.ning.com/topology/rest/1.0/
 file/get/1664157456?profile=original
ATTENDEE;ROLE=REQ-PARTICIPANT;PARTSTAT=ACCEPTED;RSVP=TRUE;CN="VBnightl
 ife.com":https://vbnightlife.com/profile/admin
END:VEVENT
END:VCALENDAR
