BEGIN:VCALENDAR
PRODID:NingEventWidget-v1
VERSION:2.0
METHOD:PUBLISH
BEGIN:VEVENT
UID:2508951:Event:195937
DTSTAMP:20260424T144648Z
SUMMARY:ATLANTIC COAST KITE FESTIVAL THIS WEEKEND!
DESCRIPTION:\n\nATLANTIC COAST KITE FESTIVAL THIS WEEKEND!\n\nSaturday
 -Sunday, May 5-6, 2012 10:00am-4:00pm Virginia Beach Oceanfront on Sat
 urday, May 5 City Park in Portsmouth on Sunday, May 6\n     Kite f
 liers and spectators of all ages will experience a visual feast at the
  8th Annual Atlantic Coast Kite Festival Saturday-Sunday, May 5-6, 201
 2!  Held in two locations, this popular event features a variety of a
 ctivities appropriate for all ages and all levels of kite aficionados.
   “Colors in the Sky” is the theme that participants will explore
  in the Atlantic Coast Kite Festival’s “Best Kite Contest.” \n 
 \nKite Festival in Virginia Beach– Saturday, May 5, 2012 – 10:00am
 -4:00pm on the beach at 17th Street and in the 17th Street Park.  Fea
 tures the Best Kite Contest.  In addition, families are invited to pa
 rticipate in kite building workshops led by Archie Stewart of Chestnut
  Hill, Massachusetts.  Archie is a member of: American Kitefliers Ass
 ociation (AKA)www.aka.kites.org; Past Board Member and Chairman of Fes
 tivals and Competitions for Kites Over New England (KONE)www.kone.org;
  the regional kite club of New England. He is also a member of Connect
 iKiters kite club, headquartered in Norwalk, CT and a member and compe
 titor of the Eastern League Flyers Association. These workshops (for a
  nominal fee) include kite materials and instructions on how to build 
 a kite, as well as the aerodynamics of kite flying and kite safety. \
 nAdmission to the kite festival is FREE.\n\n\n\n\n\n\n\n\n\nFor more i
 nformation visit https://vbnightlife.com/events/atlantic-coast-kite-fe
 stival-this-weekend
DTSTART:20120505T140000Z
DTEND:20120506T200000Z
CATEGORIES:"family fun"
LOCATION:vIRGINA BEACH
WEBSITE:
URL:
CONTACT:
ORGANIZER:VBnightlife.com / VBdaylife / norfolkNightlife
ATTACH;FMTTYPE="image/jpeg":http://storage.ning.com/topology/rest/1.0/
 file/get/1664168692?profile=original
ATTENDEE;ROLE=REQ-PARTICIPANT;PARTSTAT=ACCEPTED;RSVP=TRUE;CN="VBnightl
 ife.com":https://vbnightlife.com/profile/admin
END:VEVENT
END:VCALENDAR
