BEGIN:VCALENDAR
PRODID:NingEventWidget-v1
VERSION:2.0
METHOD:PUBLISH
BEGIN:VEVENT
UID:2508951:Event:100635
DTSTAMP:20260421T130038Z
SUMMARY:Atlantic Coast Kite Festival
DESCRIPTION:\n \nKite fliers and spectators of all ages experience a 
 visual feast at the Atlantic Coast Kite Festival.  This popular event
  features a variety of activities appropriate for all ages and all lev
 els of kite aficionados. Everyone is invited to take part in the Atlan
 tic Coast Kite Festival’s “Best Kite Contest.”  To enter this c
 ontest, participants must build a kite and bring it to the festival. 
  The contest consists of two parts: the actual kite itself and how wel
 l it is made, and the participant’s ability to fly the kite.  Parti
 cipants must be able to fly their kites consecutively in the air for 5
  minutes at a height of 100 feet.  Kites are judged on Flight (abilit
 y to fly for 5 minutes), Structural Design, Craftsmanship, and Visual 
 Appeal.  There are three competitive divisions: Master, Novice, and Y
 outh (ages 7-14).  Kites are photographed and entered in the “Peopl
 e’s Choice” contest, where festival attendees get to vote on their
  favorite kites!  The Best Kite Contest is free to enter.\n \nIn add
 ition, everyone is invited to participate in kite building workshops l
 ed by Archie Stewart of Chestnut Hill, Massachusetts.  American Kite 
 Association members from throughout the East Coast present kite demons
 trations, perform kite routines to music, and fly giant kites (up to 8
 0 feet long) that include an octopus kite!  Kite vendors are also ava
 ilable on site, selling various kinds of kites.  Admission to the kit
 e festival is free.\n\nFor more information visit https://vbnightlife.
 com/events/atlantic-coast-kite-festival-1
DTSTART:20110430T040000Z
DTEND:20110501T035900Z
CATEGORIES:"virginia beach family fun"
LOCATION:17th Street Beach
WEBSITE:
URL:
CONTACT:
ORGANIZER:VBnightlife.com / VBdaylife.com
ATTACH;FMTTYPE="image/jpeg":http://storage.ning.com/topology/rest/1.0/
 file/get/1664137780?profile=original
ATTENDEE;ROLE=REQ-PARTICIPANT;PARTSTAT=ACCEPTED;RSVP=TRUE;CN="VBnightl
 ife.com":https://vbnightlife.com/profile/admin
END:VEVENT
END:VCALENDAR
