BEGIN:VCALENDAR
PRODID:NingEventWidget-v1
VERSION:2.0
METHOD:PUBLISH
BEGIN:VEVENT
UID:2508951:Event:29279
DTSTAMP:20260422T073414Z
SUMMARY:Art Opening - Art Space at Pembroke Mall
DESCRIPTION:5 Art Galleries at the New Art Venue \"Art Space at Pembro
 ke Mall\". There are 5 dinstinctively different galleries as well as t
 he Virginia Ballet International and a children's theatre group......C
 ome see what all the talk is about. Over 40 artists represented\n\nFor
  more information visit https://vbnightlife.com/events/art-opening-art
 -space-at
DTSTART:20100207T180000Z
DTEND:20100207T220000Z
CATEGORIES:art, gallery, openings
LOCATION:Pembroke Mall - Virginia Beach.
WEBSITE:
URL:
CONTACT:757-434-3876
ORGANIZER:Andi Helfant-Frye, Debi Stadlin, Kandy Cross, Randall Jordan
ATTACH;FMTTYPE="image/jpeg":http://storage.ning.com/topology/rest/1.0/
 file/get/1664098243?profile=original
ATTENDEE;ROLE=REQ-PARTICIPANT;PARTSTAT=ACCEPTED;RSVP=TRUE;CN="Rolan St
 ears":https://vbnightlife.com/profile/RolanStears
ATTENDEE;ROLE=REQ-PARTICIPANT;PARTSTAT=ACCEPTED;RSVP=TRUE;CN="Magaly S
 heets":https://vbnightlife.com/profile/MagalySheets
ATTENDEE;ROLE=REQ-PARTICIPANT;PARTSTAT=ACCEPTED;RSVP=TRUE;CN="Andi Hel
 fant-Frye":https://vbnightlife.com/profile/AndiHelfantFrye
END:VEVENT
END:VCALENDAR
