BEGIN:VCALENDAR
PRODID:NingEventWidget-v1
VERSION:2.0
METHOD:PUBLISH
BEGIN:VEVENT
UID:2508951:Event:23493
DTSTAMP:20260420T033618Z
SUMMARY:ANOTHER DAY AT THE OFFICE @ THE GREEN PARROT GRILL
DESCRIPTION:9:30 TO 1:30\n\nFor more information visit https://vbnight
 life.com/events/another-day-at-the-office-the
DTSTART:20091004T040000Z
DTEND:20091005T035900Z
CATEGORIES:band
LOCATION:chicks beach, Virginia Beach
WEBSITE:
URL:
CONTACT:
ORGANIZER;CN="VBnightlife.com":https://vbnightlife.com/profile/admin
ATTACH;FMTTYPE="image/jpeg":
ATTENDEE;ROLE=REQ-PARTICIPANT;PARTSTAT=ACCEPTED;RSVP=TRUE;CN="VBnightl
 ife.com":https://vbnightlife.com/profile/admin
END:VEVENT
END:VCALENDAR
