BEGIN:VCALENDAR
PRODID:NingEventWidget-v1
VERSION:2.0
METHOD:PUBLISH
BEGIN:VEVENT
UID:2508951:Event:324028
DTSTAMP:20260422T164348Z
SUMMARY:Annual \"World Famous Run\" Scheduled for Feb. 6
DESCRIPTION:Hampton Roads Harley-Davidson and SouthSide Harley-Davids
 on are hosting their annual ”World Famous Run” on Saturday, Feb. 
 6 from 8:30 a.m. to 3 p.m. The Harley-Davidson dealers will team up w
 ith nearby locations for participants to ride or drive to and from t
 heir store for a chance to win various discounts totaling up to a $50
 0 value.Participants in the run will need to stop at two locations the
  day of the event. At the first stop, they will pick up a discount ca
 rd. At the second stop they will pick up a multiplier to reveal the t
 otal value of their discount savings.  Participants can choose to 
 travel either from store to store, restaurant to store or store to re
 staurant in order to participate. Quaker Steak and Lube in Newport Ne
 ws will offer a $7.99 breakfast buffet that will include a soda, cof
 fee or tea for participants beginning at 9 a.m.Participating location
 s include:\n\nHampton Roads Harley-Davidson: 6450 George Washington M
 emorial Highway, Yorktown, VA 23692\n\n\nSouthSide Harley-Davidson: 38
 5 North Witchduck Rd., Virginia Beach, VA 23462\n\n\nQuaker Steak and
  Lube, 12832 Jefferson Ave, Newport News, VA 23608\n\n\nVirginia Beac
 h Harley-Davidson, 237 Laskin Rd., Virginia Beach, VA 23451\n\n\nWhil
 e some discounts are bigger than others, all customers who participat
 e will receive a discount on their purchases. For additional informati
 on on the event, please contact Hampton Roads Harley-Davidson, at (7
 57) 872-7223 or SouthSide Harley-Davidson at (757) 499-8964.\n\nAbout
  Hampton Roads Harley-Davidson®\nHampton Roads Harley-Davidson® op
 ened it’s doors in 1978 and has been a proud Harley-Davidson® moto
 rcycle and merchandise dealer in the community for more than 30 years
 . Located at 6450 George Washington Memorial Highway in Yorktown, Ham
 pton Roads Harley-Davidson is committed to providing their customers
  with the highest level of quality and customer service. For more inf
 ormation please call (757) 872-7223 or visit hamptonroadshd.com.\n\n
 About Southside Harley-Davidson®  \nLocated at 385 North Witchduck
  Road in Virginia Beach, SouthSide Harley-Davidson® opened in 1990 a
 s a part of the Hampton Roads Harley-Davidson®, Inc. family. They are
  committed to providing customers with highest level of quality and c
 ustomer service at every visit. For more information please call (75
 7) 499-8964 or visit southside-hd.com.\n\nFor more information visit
  https://vbnightlife.com/events/annual-world-famous-run-scheduled-for-
 feb-6-1
DTSTART:20160206T133000Z
DTEND:20160206T200000Z
CATEGORIES:run
LOCATION:Hampton Roads Harley-Davidson®
WEBSITE:
URL:
CONTACT:(757) 872-7223
ORGANIZER:Chad Cox
ATTACH;FMTTYPE="image/jpeg":
ATTENDEE;ROLE=REQ-PARTICIPANT;PARTSTAT=ACCEPTED;RSVP=TRUE;CN="Danny Co
 x":https://vbnightlife.com/profile/DannyCox
END:VEVENT
END:VCALENDAR
