BEGIN:VCALENDAR
PRODID:NingEventWidget-v1
VERSION:2.0
METHOD:PUBLISH
BEGIN:VEVENT
UID:2508951:Event:318238
DTSTAMP:20260423T053036Z
SUMMARY:Annual Family Bingo FUNdraiser benefiting The Virginia Foundat
 ion for the Performing arts & 757 Baseball
DESCRIPTION:\nFAMILY BINGO FUNProceeds Benefit The Virginia Performin
 g Arts Foundation& 757BaseballSunday, January 17th 1:00pm-4:00pm$25 in
  Advance $35 At The DoorCash OnlyIncludes 10 Bingo Game Cards, 1 door 
 Prize ticket,1 Drink, & 1 Slice of PizzaAdditional Raffle Tickets may 
 be purchased for $2 each or 3 for $5.00Gift Card Prizes, Silent Raffle
  Auction, Pizza Lunch IncludedEncore Dance Center4801 Shore Drive (Stu
 dio C) Virginia Beach, VA 23455757-460-4008 dance@encoredancecenter.co
 m\n\nFor more information visit https://vbnightlife.com/events/annual-
 family-bingo-fundraiser-benefiting-the-virginia-foundation
DTSTART:20160117T180000Z
DTEND:20160117T210000Z
CATEGORIES:bingo, fundraiser, dance, "virginia beach"
LOCATION:Encore Dance Center
WEBSITE:http://www.virginiaperforms.com
URL:http://www.virginiaperforms.com
CONTACT:7574604008
ORGANIZER:Encore Dance Center
ATTACH;FMTTYPE="image/jpeg":http://storage.ning.com/topology/rest/1.0/
 file/get/1664291273?profile=original
ATTENDEE;ROLE=REQ-PARTICIPANT;PARTSTAT=ACCEPTED;RSVP=TRUE;CN="Jaime Po
 pard":https://vbnightlife.com/profile/JaimePopard
END:VEVENT
END:VCALENDAR
