BEGIN:VCALENDAR
PRODID:NingEventWidget-v1
VERSION:2.0
METHOD:PUBLISH
BEGIN:VEVENT
UID:2508951:Event:323804
DTSTAMP:20260423T064951Z
SUMMARY:FEATURE YOUR BUSINESS ON THE Locals Only VIP Discount Card
DESCRIPTION:Locals Only™ VIP Discount Card\n\n\n\n\n\n\n\nFor more i
 nformation visit https://vbnightlife.com/events/announcing-locals-only
 -vip-discount-card
DTSTART:20160116T230000Z
DTEND:20160117T000000Z
CATEGORIES:"locals only vip discount card"
LOCATION:Virginia Beach, VA
WEBSITE:
URL:
CONTACT:
ORGANIZER:VBnightlife.com / VBdaylife.com / VBhotdeals.com
ATTACH;FMTTYPE="image/jpeg":http://storage.ning.com/topology/rest/1.0/
 file/get/1664299510?profile=original
ATTENDEE;ROLE=REQ-PARTICIPANT;PARTSTAT=ACCEPTED;RSVP=TRUE;CN="VBnightl
 ife.com":https://vbnightlife.com/profile/admin
END:VEVENT
END:VCALENDAR
