BEGIN:VCALENDAR
PRODID:NingEventWidget-v1
VERSION:2.0
METHOD:PUBLISH
BEGIN:VEVENT
UID:2508951:Event:324784
DTSTAMP:20260422T221117Z
SUMMARY:AN EVENING WITH WHITE HOUSE CORRESPONDENT ANN COMPTON AT THE S
 ANDLER CENTER - VIRGINIA BEACH FORUM
DESCRIPTION:A talk by ABC White House correspondent, Ann Compton. She 
 will share her observations about current events, a look at the people
  shaping the future and what lies ahead for the 2016 race for the Whit
 e house. \n\nTickets are available at the Box office until 8pm tonigh
 t. Performance is 7:30 - 8:30pm  $40 adults $10 students\n\nAbout An
 n Compton: \n\nAnn was White House correspondent for ABC News from 19
 74 to 2014.\nShe covered seven presidents as a White House corresponde
 nt for ABC News, \nShe joined ABC News in 1973 becoming the first wo
 man assigned to cover the White House by a network television news org
 anization.\nHer reports spanned four decades covering Watergate, the p
 ersonal side of first families, political conventions, debates and ele
 ctions.\nOn September 11, 2001, she was the only broadcast reporter al
 lowed to remain aboard Air Force One during the dramatic hours when Pr
 esident Bush was unable to return to Washington.\nInducted to the Jour
 nalism Hall of Fame, Compton has received Peabody Awards and a News' E
 mmy.\nCompton gives audiences unprecedented access to herself as well,
  turning the tables on the audience by declaring a \"White House Press
  Conference\" is in session.\n\n\n\nFor more information visit https:/
 /vbnightlife.com/events/ann-compton-at-the-sandler-center-virginia-bea
 ch-forum
DTSTART:20160211T003000Z
DTEND:20160211T013000Z
CATEGORIES:"virginia beach", "virginia beach nightlife", "virginia bea
 ch events", "virginia beach entertainment", "events in virginia beach"
 , "things to do in virginia beach", "mobile app virginia beach"
LOCATION:Sandler Center for the Performing Arts
WEBSITE:
URL:
CONTACT:
ORGANIZER:VBnightlife.com / vbdaylife / VIRGINIA BEACH FORUM
ATTACH;FMTTYPE="image/jpeg":http://storage.ning.com/topology/rest/1.0/
 file/get/1664301466?profile=original
ATTENDEE;ROLE=REQ-PARTICIPANT;PARTSTAT=ACCEPTED;RSVP=TRUE;CN="VBnightl
 ife.com":https://vbnightlife.com/profile/admin
END:VEVENT
END:VCALENDAR
