BEGIN:VCALENDAR
PRODID:NingEventWidget-v1
VERSION:2.0
METHOD:PUBLISH
BEGIN:VEVENT
UID:2508951:Event:194435
DTSTAMP:20260420T021738Z
SUMMARY:Andy Warhol
DESCRIPTION:Andy Warhol: Portraits\nMay 26-August 19, 2012\nThe Virgin
 ia Museum of Contemporary Art (MOCA) presents Andy Warhol: Portraits, 
  featuring original works from the Andy Warhol Museum in Pittsburgh. 
 This notoriously private artist is revealed in the company he keeps. I
 ncluding screenprints, drawings, paintings, Polaroids, and vintage fam
 ily photos this exhibition explores the phenomenon that is Warhol’s 
 work on a deeply personal level. Andy Warhol: Portraits includes more 
 than 130 portraits produced by Warhol from the 1940s to the 1980s. Th
 is exhibition contains portraits of Warhol in his youth, a reproductio
 n of Warhol's first celebrity…\nget more info on this artist\n\n\n\n
 \nFifteen Square Inches of Fame\nMay 26 to August 19, 2012\n “In the
  future, everyone will be world famous for 15 minutes” - Andy Warhol
  In celebration of our upcoming Andy Warhol: Portraits exhibition, the
  Virginia Museum of Contemporary Art (MOCA) invites all artists living
  in Hampton Roads to participate in “Fifteen Square Inches of Fame.
  The open exhibition will be presented in conjunction with Warhol’
 s Portraits, and will serve as the community’s artistic response to 
 the life and work of Andy Warhol. Throughout his career, Warhol portra
 yed celebrities, friends, family, and public figures alike in his sign
 ature style, revolutionizing the conversations we have about art and A
 merican pop culture. This is a special opportunity for all vi…\nget 
 more info on this artist\n\n\n\n\nI Like Soup\nMay 26 to August 19\n I
  just paint things I always thought were beautiful, things you use eve
 ry day and never think about. I'm working on soups, and I've been doin
 g some paintings of money. I just do it because I like it. - Andy Warh
 ol, Time Magazine, May 11, 1962 As MOCA and the Hampton Roads communit
 y celebrates the Andy Warhol: Portraits exhibition, we wanted to take 
 a moment to explore Warhol’s idea of a tin soup can and the many way
 s in which popular culture influences artists today. A plain, unused t
 in can was given to a selection of local, national and internationally
  recognized contemporary artists. They were asked to reinterpret the c
 an and use it in the creation of their own art. Each original can is 
 \nget more info on this artist\n\n\n\nFor more information visit htt
 ps://vbnightlife.com/events/andy-warhol
DTSTART:20120818T040000Z
DTEND:20120820T035900Z
CATEGORIES:"virginia beach events", "virginia beach art", "virginia mo
 ca", "andy warhol"
LOCATION:Virginia MOCA
WEBSITE:http://www.virginiamoca.org/exhibitions/upcoming
URL:http://www.virginiamoca.org/exhibitions/upcoming
CONTACT:
ORGANIZER;CN="VBnightlife.com":https://vbnightlife.com/profile/admin
ATTACH;FMTTYPE="image/jpeg":http://storage.ning.com/topology/rest/1.0/
 file/get/1664166791?profile=original
ATTENDEE;ROLE=REQ-PARTICIPANT;PARTSTAT=ACCEPTED;RSVP=TRUE;CN="VBnightl
 ife.com":https://vbnightlife.com/profile/admin
ATTENDEE;ROLE=REQ-PARTICIPANT;PARTSTAT=TENTATIVE;RSVP=TRUE;CN="amie je
 an downing":https://vbnightlife.com/profile/amiejeandowning
END:VEVENT
END:VCALENDAR
