BEGIN:VCALENDAR
PRODID:NingEventWidget-v1
VERSION:2.0
METHOD:PUBLISH
BEGIN:VEVENT
UID:2508951:Event:9681
DTSTAMP:20260425T185521Z
SUMMARY:Andy Kim Live DJaying Saturday Night at Catch 31!
DESCRIPTION:Come out and hear great 70's, 80's and top 40 tunes!\n\nFo
 r more information visit https://vbnightlife.com/events/andy-kim-live-
 djaying-saturday-1
DTSTART:20090405T020000Z
DTEND:20090405T060000Z
CATEGORIES:live, dj
LOCATION:Catch 31 @ Hilton Hotel Oceanfront
WEBSITE:http://maps.google.com/maps?q=catch%2031%20virginia%20beach&oe
 =utf-8&rls=org.mozilla:en-US:official&client=firefox-a&um=1&ie=UTF-8&s
 a=N&hl=en&tab=wl
URL:http://maps.google.com/maps?q=catch%2031%20virginia%20beach&oe=utf
 -8&rls=org.mozilla:en-US:official&client=firefox-a&um=1&ie=UTF-8&sa=N&
 hl=en&tab=wl
CONTACT:757.213.3472
ORGANIZER:
ATTACH;FMTTYPE="image/jpeg":http://storage.ning.com/topology/rest/1.0/
 file/get/1664069778?profile=original
ATTENDEE;ROLE=REQ-PARTICIPANT;PARTSTAT=ACCEPTED;RSVP=TRUE;CN=Andy:http
 s://vbnightlife.com/profile/Andy61
END:VEVENT
END:VCALENDAR
