BEGIN:VCALENDAR
PRODID:NingEventWidget-v1
VERSION:2.0
METHOD:PUBLISH
BEGIN:VEVENT
UID:2508951:Event:334316
DTSTAMP:20260419T151335Z
SUMMARY:AN EVENING WITH REDSKIN CHARLES MANN AT THE SANDLER CENTER - V
 IRGINIA BEACH FORUM
DESCRIPTION:Charles Mann  Wednesday, March 16, 2016; 7:30pm\nhttp://w
 ww.vabeachforum.com/\nCharles Mann is a former 12 year veteran of the 
 National Football League and four time NFL Pro Bowl player. His 83 reg
 ular season sacks combined with the 10 sacks he recorded in the NFL Pl
 ayoffs place him among the elite players of the NFL. Mann has been nom
 inated for the NFL Hall of Fame nine (9) times and inducted into the R
 ing of Stars at Washington Redskins Fed-Ex Field. Charles is a proud m
 ember of the 70 All-Time Great Washington Redskins.\n\nIn 1993 Mann an
 d Art Monk created the Washington, DC Youth Power Center, formerly kno
 wn as The Good Samaritan Foundation. As Chairman and co-founder Mann h
 as led this successful non-profit which tutors and develops inner-city
  youth on the critical behaviors and functional skills necessary to su
 cceed in the community and workplace. Key business contributors and pa
 rtners include; Accenture, Patton & Boggs, Choice Hotels, Freddie Mac 
 Foundation, Financial Planners Association and Shoppers Food Warehouse
 .\n\nMann is CEO and founder of Charles Mann Enterprises, a government
  contracting business, and is also a consultant for University Health 
 System which owns hospitals in Shreveport and Monroe, Louisiana. Prior
  to starting Charles Mann Enterprises, he was CEO of Alliant Merchant 
 Services, a 100% minority owned and operated company founded in 2004 w
 ith his partner, NFL Hall of Famer Art Monk.\n\nTickets are available 
 at the Box office until 8pm the night of the event.. Performance is 7:
 30 - 8:30pm  $40 adults $10 students\n\nSponsored by VBnightlife / VB
 daylife and Locals Only VB\n\n \n\nFor more information visit https
 ://vbnightlife.com/events/an-evening-with-redskin-charles-mann-at-the-
 sandler-center-virgin
DTSTART:20160316T233000Z
DTEND:20160317T003000Z
CATEGORIES:"virginia beach", "virginia beach nightlife", "virginia bea
 ch events", "virginia beach entertainment", "events in virginia beach"
 , "things to do in virginia beach", "mobile app virginia beach"
LOCATION:Sandler Center for the Performing Arts
WEBSITE:
URL:
CONTACT:
ORGANIZER:VBnightlife.com / vbdaylife / VIRGINIA BEACH FORUM
ATTACH;FMTTYPE="image/jpeg":http://storage.ning.com/topology/rest/1.0/
 file/get/1664302649?profile=original
ATTENDEE;ROLE=REQ-PARTICIPANT;PARTSTAT=ACCEPTED;RSVP=TRUE;CN="VBnightl
 ife.com":https://vbnightlife.com/profile/admin
END:VEVENT
END:VCALENDAR
