BEGIN:VCALENDAR
PRODID:NingEventWidget-v1
VERSION:2.0
METHOD:PUBLISH
BEGIN:VEVENT
UID:2508951:Event:312678
DTSTAMP:20260422T091722Z
SUMMARY:American Music Festival 2015 • Complete Line-up of Bands on
  7 Stages
DESCRIPTION:COMPLETE ENTERTAINMENT SCHEDULE\n \nSunday, September 6\n
 5th Street Main Stage ($ tickets) - Show 7:00 PM, Doors 6:00 PM\n\nS
 heryl Crow (headlining)\nPhil Vassar (plays 2nd) \nRock & Roll Half M
 arathon Awards Ceremony (opening act)\n\n12th Street Stage (free) - 
 Show 6:30 PM\n\nBrandon Bower\n\nDQ Grill & Chill 17th Street Park (f
 ree) - Shows Noon - 1:00 PM & 2:00 - 3:00PM\n\nImagination Movers (f
 amily show)\n\nDQ Grill & Chill 17th Street Park (free) - Show 6:00 
 PM, Doors 5:00 PM\n\nThe Embers\n\n19th Street Stage (free) - Show 6
 :30PM\n\nMurphy’s Kids\n\n24th Street Park (free) - Show 7:30 PM, 
 Doors 6:30 PM\n\nReel Big Fish (headlining)\nThe Pietasters\n\n27th St
 reet Stage (free) - Show 6:30 PM\n\nDustin Furlow\n\n31st Street Par
 k (free) - Show 7:30 PM, Doors 6:30 PM\n\nGuava Jam (headlining)\nSt
 rictly Bizzness (opening act)\n\n    \n \n\nFor more information v
 isit https://vbnightlife.com/events/american-music-festival-2015
DTSTART:20150906T040000Z
DTEND:20150907T035900Z
CATEGORIES:"american music festival 2015", "american music festival vi
 rginia beach"
LOCATION:5th Street and Various Stages at the Oceanfront
WEBSITE:http://www.ticketmaster.com/search?tm_link=tm_homeA_header_sea
 rch&user_input=american+music+festival&q=american+music+festival
URL:http://www.ticketmaster.com/search?tm_link=tm_homeA_header_search&
 user_input=american+music+festival&q=american+music+festival
CONTACT:
ORGANIZER:VBnightlife.com / vbdaylife/
ATTACH;FMTTYPE="image/jpeg":http://storage.ning.com/topology/rest/1.0/
 file/get/1664286058?profile=original
ATTENDEE;ROLE=REQ-PARTICIPANT;PARTSTAT=ACCEPTED;RSVP=TRUE;CN="VBnightl
 ife.com":https://vbnightlife.com/profile/admin
END:VEVENT
END:VCALENDAR
