BEGIN:VCALENDAR
PRODID:NingEventWidget-v1
VERSION:2.0
METHOD:PUBLISH
BEGIN:VEVENT
UID:2508951:Event:293739
DTSTAMP:20260425T213843Z
SUMMARY:American Music Festival Friday and Saturday
DESCRIPTION: \n\nSaturday:\n5th Street Main Stage (6:00pm doors) - $2
 0 in advance/$25 day of show 7:00pm Creedence Clearwater Revisited w
 ith Blues Traveler\n12th Street Boardwalk Stage - free 6:30pm Sessio
 n Rockers \n17th Street Park (6:30pm doors) - free 7:30pm Cherry Pop
 pin Daddies with Major & the Monbacks\n19th Street Boardwalk Stage - 
 free 6:30pm The Shack Band \n24th Street Park - free Noon-1:00pm & 
 2:00pm-3:00pm Rocknoceros (family matinee)\n24th Street Park (7:00pm 
 doors) - free 8:00pm - Salute to The Platters, Cornell Gunters Coas
 ters, and Drifters Revue \n27th Street Boardwalk Stage - free 6:30pm
  The Band Concord \n31st Street Park (6:30pm doors) - free 7:30pm R
 usted Root   with Seth Stainback & Roosterfoot  \n\nSunday:\nhttp:
 //vbnightlife.com/events/american-music-festival-sunday-s-lineup-inclu
 des-train\n\n\nClick to purchase tickets through Ticketmaster.\n3-day 
 festival Passport Pins are also on sale at the Virginia Beach Visitor 
 Information Center, 2101 Parks Avenue, Virginia Beach.  Please call 7
 57-491-7866 for hours and directions!\n\nTo access events on the go, S
 earch VBnightlife in the app store or use this link from a mobile devi
 ce:  http://onelink.to/yae3t5\n\n\n\n\n\n\n\n\n\n\n\n\n\n\nFor more i
 nformation visit https://vbnightlife.com/events/american-music-festiva
 l-2
DTSTART:20140830T040000Z
DTEND:20140901T035900Z
CATEGORIES:"american music festival"
LOCATION:Various Stages at the Oceanfront
WEBSITE:
URL:
CONTACT:
ORGANIZER:VBnightlife.com / vbdaylife/
ATTACH;FMTTYPE="image/jpeg":http://storage.ning.com/topology/rest/1.0/
 file/get/1664242182?profile=original
ATTENDEE;ROLE=REQ-PARTICIPANT;PARTSTAT=ACCEPTED;RSVP=TRUE;CN="VBnightl
 ife.com":https://vbnightlife.com/profile/admin
END:VEVENT
END:VCALENDAR
