BEGIN:VCALENDAR
PRODID:NingEventWidget-v1
VERSION:2.0
METHOD:PUBLISH
BEGIN:VEVENT
UID:2508951:Event:7441
DTSTAMP:20260425T172934Z
SUMMARY:ALWAYS...PATSY CLINE @ THE SANDLER CENTER
DESCRIPTION:Always...Patsy Cline\nDate: Sunday, March 22, 2009\nTime: 
 2:00 pm\nWebsite: www.alwayspatsycline.net\n\nSweet Dreams Again. One 
 of the most produced and successful musicals in history. The show is a
  warm tribute to friendship laced together by such hits as Crazy, I Fa
 ll To Pieces, Sweet Dreams, Walking After Midnight - 27 songs in all. 
 ALWAYS...PATSY CLINE. Always a hit!\n\nFor more information visit http
 s://vbnightlife.com/events/alwayspatsy-cline-the-sandler-4
DTSTART:20090322T180000Z
DTEND:20090322T210000Z
CATEGORIES:musical
LOCATION:The Sandler Center
WEBSITE:
URL:
CONTACT:
ORGANIZER:The Sandler Center
ATTACH;FMTTYPE="image/jpeg":http://storage.ning.com/topology/rest/1.0/
 file/get/1664069110?profile=original
ATTENDEE;ROLE=REQ-PARTICIPANT;PARTSTAT=ACCEPTED;RSVP=TRUE;CN="Nicole M
 axino":https://vbnightlife.com/profile/NicoleMaxino
END:VEVENT
END:VCALENDAR
