BEGIN:VCALENDAR
PRODID:NingEventWidget-v1
VERSION:2.0
METHOD:PUBLISH
BEGIN:VEVENT
UID:2508951:Event:10550
DTSTAMP:20260425T173013Z
SUMMARY:ALMOST FAMOUS BAND
DESCRIPTION:SAT APRIL 4th AT 9:30 pm\n\nFor more information visit htt
 ps://vbnightlife.com/events/almost-famous-band
DTSTART:20090405T013000Z
DTEND:20090405T053000Z
CATEGORIES:almost, famous, band
LOCATION:SCANDAL'S on Holland Rd
WEBSITE:
URL:
CONTACT:
ORGANIZER;CN="Norma D Skinner":https://vbnightlife.com/profile/NormaDS
 kinner
ATTACH;FMTTYPE="image/jpeg":
ATTENDEE;ROLE=REQ-PARTICIPANT;PARTSTAT=ACCEPTED;RSVP=TRUE;CN="Norma D 
 Skinner":https://vbnightlife.com/profile/NormaDSkinner
END:VEVENT
END:VCALENDAR
