BEGIN:VCALENDAR
PRODID:NingEventWidget-v1
VERSION:2.0
METHOD:PUBLISH
BEGIN:VEVENT
UID:2508951:Event:33485
DTSTAMP:20260426T003244Z
SUMMARY:ALMOST FAMOUS BAND
DESCRIPTION:BEACH EVENTS 17TH STREET STAGE STARFISH PAVILION\n8 PM TO 
 11:30 PM\n\nFor more information visit https://vbnightlife.com/events/
 almost-famous-band-9
DTSTART:20100522T000000Z
DTEND:20100522T033000Z
CATEGORIES:rock, n, roll, show
LOCATION:17th Street Stage Oceanfront
WEBSITE:http://www.almostfamousband.com
URL:http://www.almostfamousband.com
CONTACT:
ORGANIZER;CN="Norma D Skinner":https://vbnightlife.com/profile/NormaDS
 kinner
ATTACH;FMTTYPE="image/jpeg":http://storage.ning.com/topology/rest/1.0/
 file/get/1664104133?profile=original
ATTENDEE;ROLE=REQ-PARTICIPANT;PARTSTAT=ACCEPTED;RSVP=TRUE;CN="Norma D 
 Skinner":https://vbnightlife.com/profile/NormaDSkinner
END:VEVENT
END:VCALENDAR
