BEGIN:VCALENDAR
PRODID:NingEventWidget-v1
VERSION:2.0
METHOD:PUBLISH
BEGIN:VEVENT
UID:2508951:Event:33473
DTSTAMP:20260421T040931Z
SUMMARY:ALMOST FAMOUS BAND
DESCRIPTION:Live @ HK on the Bay, Va. Beach at 10 pm, featuring new dr
 ummer Pasquale DeVito!\n\nFor more information visit https://vbnightli
 fe.com/events/almost-famous-band-5
DTSTART:20100321T020000Z
DTEND:20100321T053000Z
CATEGORIES:rock, "&", roll, show
LOCATION:Lookout Rd./Chick's Beach
WEBSITE:http://www.almostfamousband.com
URL:http://www.almostfamousband.com
CONTACT:
ORGANIZER;CN="Norma D Skinner":https://vbnightlife.com/profile/NormaDS
 kinner
ATTACH;FMTTYPE="image/jpeg":http://storage.ning.com/topology/rest/1.0/
 file/get/1664104832?profile=original
ATTENDEE;ROLE=REQ-PARTICIPANT;PARTSTAT=ACCEPTED;RSVP=TRUE;CN="Norma D 
 Skinner":https://vbnightlife.com/profile/NormaDSkinner
END:VEVENT
END:VCALENDAR
