BEGIN:VCALENDAR
PRODID:NingEventWidget-v1
VERSION:2.0
METHOD:PUBLISH
BEGIN:VEVENT
UID:2508951:Event:19697
DTSTAMP:20260422T044138Z
SUMMARY:ALL EVENTS - click here
DESCRIPTION:\n\nLIVE ENTERTAINMENT/BANDS:\n501 City Grill - VB \"CHEAP
  THRILLS\"\nAbbey Road - VB \"HUCKLEBERRY ZIMMERMAN\"\nAJ Gators - VB 
 Hilltop \"LIVE ENTERTAINMENT\"\nBaja Sandbridge - VB \"HAPPY JACK\"\nB
 ayside Inn - VB \"SPECIAL TOUCH BAND\"\nBoneshakers - VB \"WEST & DANI
 ELS\"\nChichos 29th Street - VB \"CICERO W/FREEDOM FIGHTERS\"\nClub Re
 levant - VB \"TEXAS IN JULY\" + more\nClutch Bar & Grill - VB \"RUSSEL
 L LYNCH AND THE SOUTHERN DRUNKEN REPUBLICANS\"\nCypress Point Country 
 Club - VB \"FAB\"\nFinn McCool's - VB \"DAVE CAVITT\"\nGeared Up Rock 
 Bar - VB \"DIRTY TOYS\" & \"SUPER BOB\"\nGreen Parrot - VB \"DOAD\"\nH
 2O - VB \"ELT\"\nHK on the Bay - VB \"PLASTIC EDDIE\"\nHook's Saltwate
 r Grill - VB \"JEAN ROAC\"\nIl Giardino's - VB \"BILL BATTE\" 7:30-11:
 30PM\nJewish Mother - VB \"HACKENSAW BOYS\"\nKeagans - Red Mill - VB \
 "MARC WITH A K\"\nKnuckleheads - VB \"THE OFFICE\"\nKokoamos - VB \"VI
 NYL HEADLIGHTS\"\nLucky Oyster - VB \"LEWIS McGEHEE\"\nLuxury Browns -
  VB \"H M JOHNSON\"\nPeabody's - VB \"ASG\", \"WHOLE WHEAT BREAD\", \"
 JACKMOVE\", \"THE SLEAZE STACKS\", \"BRUNO JACKSON\"\nPoppa's Pub - VB
  \"BLUE LORDS\"\nSouth Beach Grill - VB \"MICHAEL CLARK BAND\"\nStarz 
 - VB \"OCEAN BREEZE\"\nUpper Deck - VB \"COOLIN' OUT\"\n\nOUTDOOR EVEN
 TS:\n4th Street - VB *EAST COAST SURFING CHAMPIONSHIPS*\n03:00â€“04:00
 pm \"Two Tone Cadillac\" - 4th St Stage\n04:00â€“05:00pm Coastal Edgeâ
 €™s Band of the Day - 2nd St Stage\n04:30â€“06:00pm \"Hot Spur\" - 4th
  St Stage\n05:00â€“06:00pm Coastal Edgeâ€™s Band of the Day - 2nd St S
 tage\n06:00â€“07:00pm Coastal Edgeâ€™s Band of the Day - 2nd St Stage\
 n06:30â€“08:00pm \"Carbon Jam\" - 4th St Stage\n07:00â€“08:00pm Coasta
 l Edgeâ€™s Band of the Day - 2nd St Stage\n08:30â€“10:30pm \"Butter\"\
 n7th Street Stage - VB \"DYNAMOHUM\"\n13th Street Stage - VB \"PATSY C
 LINE;A TRIBUTE\"\n17th Street Stage - VB \"HEATHER EDWARDS BAND\"\n24t
 h Street Stage - VB *FUNK FEST* \"DJ HEARTATTACK\" 6PM, \"KARESS\" 7PM
 , \"SUGARFOOT'S OHIO PLAYERS\" 8PM\n31st Street Stage - VB \"NEW DIREC
 TION\"\nFarmer's Market - VB \"SIDKICKS BAND\"\nSTRINGERS 18th STREET 
 CAFE - VB \"3 MEN & A BOX\"\nTown Center Fountain Plaza - VB \"THE RHO
 NDELS\"\nVerizon Wireless Amp. - VB \"KISS\"\n\nTHEATRE/PLAYS/CONCERTS
 /SPORTS:\nFrancis Land House - VB *A MIDSUMMER NIGHT'S DREAM*\nFunny B
 one Comedy Club - VB \"SHERYL UNDERWOOD\"\nDouble Tree Hotel - VB *MUR
 DER MYSTERY DINNER THEATER - LET'S HOST A MURDER!*\n\nDJ'S/KARAOKE/DAN
 CES:\nAkido Studio - VB *LET'S DANCE* Dance Lessons $4\nAJ Gators - VB
  Fairfield *DJ*\nAJ Gators - VB Holland Rd. *DJ*\nAJ Gators - VB Gener
 al Booth *KARAOKE* w/DJ\nBlarney Stone Pub - VB *KARAOKE*\nBrass Bell 
 - VB *KARAOKE*\nCatch 31 Sky Bar - VB *HOTEST DJ'S FROM HAMPTON ROADS*
  11PM\nCatherineâ€™s - VB *KARAOKE*\nDocker's Restaurant & Karaoke Pub
  - VB *KARAOKE* 9pm\nFat Tuesdays - VB *KARAOKE*\nFly'n Fishbone - VB 
 *CARIBBEAN FEVER - BLAZING REGGAR-SOCA-HIP HOP* W/ DJ BADJOE\nFrankie'
 s Place - VB *KARAOKE*\nFusha Lounge - VB *GUEST DJ*\nHot Tuna - VB *D
 J B EASY*\nIkeâ€™s Sportz Bar - VB *KARAOKE*\nKeagans - TOWN CENTER - 
 VB \"KARAOKE\" 10pm\nOmega Bar - VB *DEEJAY MC & DJ STEVE JACKSON*\nPa
 rlays - VB *DJ BUDDY LEE*\nSake - VB *DJ ATREVETE*\nSecrets - VB *KARA
 OKE*\nSide Street Cantina - VB *DJ DIVINE* LOST PARTY\n\nFor more info
 rmation visit https://vbnightlife.com/events/all-events-click-here-61
DTSTART:20100827T040000Z
DTEND:20100828T035900Z
CATEGORIES:band, "/", dj, sports
LOCATION:Virginia Beach / Norfolk
WEBSITE:
URL:
CONTACT:
ORGANIZER;CN="VBnightlife.com":https://vbnightlife.com/profile/admin
ATTACH;FMTTYPE="image/jpeg":http://storage.ning.com/topology/rest/1.0/
 file/get/1664084286?profile=original
ATTENDEE;ROLE=REQ-PARTICIPANT;PARTSTAT=ACCEPTED;RSVP=TRUE;CN="VBnightl
 ife.com":https://vbnightlife.com/profile/admin
END:VEVENT
END:VCALENDAR
