BEGIN:VCALENDAR
PRODID:NingEventWidget-v1
VERSION:2.0
METHOD:PUBLISH
BEGIN:VEVENT
UID:2508951:Event:35059
DTSTAMP:20260425T215114Z
SUMMARY:ALL EVENTS - click here
DESCRIPTION:LIVE ENTERTAINMENT/BANDS:\n15th Street Raw Bar - VB \"THE 
 OFFICE\"\nAbbey Road - VB \"PETE HANSON & LARRY EMMANUEL\"\nAJ Gators 
 - VB Hilltop \"LIVE ENTERTAINMENT\"\nBaker Street - VB \"BLUE LORDS\"\
 nBayside Inn - VB \"BLACK POWDER BAND\"\nBoneshakers - VB \"FOREFRONT\
 "\nChicho's 29th Street - VB \"MIKE HENSON\" 10pm *DJ BRYAN 1*\nCugini
 's - Hilltop East - VB \"MIKE HODGES & WALTER POTTER\" 8pm\nDeja Blue 
 - VB \"MICHEAL CLARK BAND\"\nDiesel - VB \"BORDERLINE CRAZY\"\nDocKsid
 e Marina - VB \"FRED KARAM\"\nDonkey Dawgs - VB \"COUNTRY REBELS\"\nFi
 nn McCools - VB \"LEMON DISH\" 9pm\nGreen Oak Pub - VB \"WOODWORK\"\nG
 reen Parrot - VB \"BILLY JOE DANIELS\"\nH2O - VB \"RED STAPLER\"\nHK o
 n the Bay - VB \"GRANT AUSTIN TAYLOR\"\nHook's Saltwater Grill - VB \"
 THE ITATION BAND\"\nHot Tuna - VB \"CHEAP THRILLS\" DJ CANROCK\nIcehou
 se - VB \"WARREN SEABURG\"\nIl Giardino's - VB \"BILL BATTE\"\nJewish 
 Mother - VB \"AUGUSTINE\"\nKeagans - Town Center - VB \"SEEMLESS J\" 1
 0pm\nKeagans Pub - Red Mill - VB \"ERIC INSLEY\" 10pm\nKokoamos - VB \
 "SPIN CITY\"\nLendy's - VB EDDY FROM THE JETTY\"\nLucky Oyster - VB \"
 JACK BECKER\"\nLuxury Brown - VB *LIVE JAZZ BAND*\nMurphy's Irish Pub 
 - VB \"DON BUNCH\"\nOmega Bar - VB *HIP HOP DJ ADRENALYNN*\nOtani - VB
  \"TAMMY GARDNER\"\nPoppa's Pub - VB \"BLIND TOONA\"\nRegal Beagle - V
 B \"UNDER CITY SKYLINES\"\nSandbridge Island - VB *OPEN MIC8 W/CHARLTO
 N PHANEUF\nScandals - VB \"THE STRIKER BAND\"\nSouth Beach Grill - VB 
 \"MITCHELL'S MAYHEM BAND\"\nStarz - VB \"SOUTH BEACH BUMS\"\nUpper Dec
 k - VB \"THE EMBERS\"\nWaterman's - VB \"CHEAP THRILLS\"\nWild Wings -
  VB \"PARALLEL MINDS\"\n\nOUTDOOR EVENTS:\n7th Street Park - VB \"OFF 
 THE ROAD\" 7pm\n17th STREET STAGE - VB \"ALMOST FAMOUS BAND\" 8-11pm\n
 24th STREET STAGE - VB \"GATORHEAD\" 8pm\n31st Street Park - VB \"EXCE
 SS BAGGAGE\"\nFountain Plaza Town Center - VB \"HEATHER JEANETTE\"\nGr
 eat Neck Park - VB *JAZZ CONCERT* W/ \"RaJAZZ\" 6-9PM\nVerizon Wireles
 s Amphitheater - VB \"BRAD PAISLEY\" + DARIUS RUCKER + STEEL MAGNOLIA 
 + EASTON CORBIN + JUSTIN MOORE\nVirginia Beach Farmers Market - VB \"C
 OUNTRY REVIEW BAND\"\n\nTHEATRE/PLAYS/CONCERTS/SPORTS:\nFunny Bone Com
 edy Club - VB \"JAMIE KENNEDY\"\nLittle Theatre of Virginia Beach - VB
  *MORNING'S AT SEVEN*\nSandler Center - VB *ANDRE-MICHEL SCHUB W/ORION
  STRING QUARTET*\n\nDJ'S/KARAOKE/DANCES:\nAkido Studio - VB *LET'S DAN
 CE* Dance Lessons $4\nAJ Gators - VB Fairfield *DJ*\nAJ Gators - VB Ho
 lland Rd. *DJ*\nAJ Gators - VB General Booth *KARAOKE* w/DJ\nBlarney S
 tone Pub - VB *KARAOKE*\nBrass Bell - VB *KARAOKE*\nCatch 31 - VB \"AN
 DY KIM DEEJAYING\" 10 PM\nCatherine’s - VB *KARAOKE*\nDocker's Resta
 urant & Karaoke Pub - VB *KARAOKE* 9pm\nFat Tuesdays - VB *KARAOKE*\nF
 rankie's Place - VB *KARAOKE*\nGeneral Booth Shuffle/Bar Crawl - VB\nI
 ke’s Sportz Bar - VB *KARAOKE*\nParlays - VB *DJ BUDDY LEE*\nSake - 
 VB *DJ ATREVETE*\nSecrets - VB *KARAOKE*\n\nFor more information visit
  https://vbnightlife.com/events/all-events-click-here-495
DTSTART:20100521T040000Z
DTEND:20100522T035900Z
CATEGORIES:band, "/", dj
LOCATION:VIRGINIA BEACH
WEBSITE:
URL:
CONTACT:
ORGANIZER;CN="VBnightlife.com":https://vbnightlife.com/profile/admin
ATTACH;FMTTYPE="image/jpeg":http://storage.ning.com/topology/rest/1.0/
 file/get/1664106295?profile=original
ATTENDEE;ROLE=REQ-PARTICIPANT;PARTSTAT=ACCEPTED;RSVP=TRUE;CN="VBnightl
 ife.com":https://vbnightlife.com/profile/admin
END:VEVENT
END:VCALENDAR
