BEGIN:VCALENDAR
PRODID:NingEventWidget-v1
VERSION:2.0
METHOD:PUBLISH
BEGIN:VEVENT
UID:2508951:Event:46218
DTSTAMP:20260420T030705Z
SUMMARY:ALL EVENTS - click here
DESCRIPTION:\n\nAJ Gators - General Booth *KARAOKE/DANCE PARTY w/DJ ED
 DIE* 9PM\nBayside Inn - \"JAZZY JAM OPEN STAGE W/ERIC SHAW\" 8:30PM\nC
 alypso - *DJ - POOL PARTY*\nCoastal Grill - \"DIMITAR ZAREV\" 5:30PM\n
 CP Shuckers - \"KEVIN KELLEY\" 2-6PM\nDanceSportVA - *SOCIAL DANCE* 7:
 30PM\nDeja Blu - *DEJA BLU STEPPERS*\nDocker's Restaurant & Karaoke Pu
 b - *KARAOKE* 9PM\nFat Tuesdays - *KARAOKE*\nFunny Bone Comedy Club - 
 \"BRYAN CALLEN\" 7PM\nHangar 09 - \"FREE MORAL AGENTS\" \"KI: THEORY\"
  \"2MEX\"\nH2O - *OPEN MIC*\nHK on the Bay - \"SOUL HAVEN - OPEN MIC\"
  9PM\nHook's Saltwater Grill - \"Shaggin' Sunday\" 4PM\nIl Giardino's 
 - \"MILACHI PHILLIPS\" 6:30-10:30PM\nJewish Mother - \"ROBIN WELCH\" C
 lassical Guitar 11AM-1PM\nKeagans Town Center - *KARAOKE*\nLuxury Brow
 n - *KARAOKE*\nMurphy's Irish Pub - \"KARL WERNE\"\nSammy’s - *KARAO
 KE*\nSandler Center - *SYMPHONICITY* \"SONG FEST\" 3PM\nSouth Beach Gr
 ill - \"BORDERLINE CRAZY\"\nUpper Deck - *SHAG SUNDAY* W/DJ GARY \"US\
 " BARNES 4PM\nVoodoo Lounge - *DJ LOCO* 9PM\n\nOUTDOOR EVENTS:\n24th S
 treet Stage - *CRAFT BEER FESTIVAL* \"LONG DIVISION\" +\n\"AUGUSTINE\"
  + \"JACKASS FLATS\" 1-6PM\nHunt Club Farm - *FALL HARVEST FAIR* 10AM-
 6PM\n\nFor more information visit https://vbnightlife.com/events/all-e
 vents-click-here-433
DTSTART:20101017T040000Z
DTEND:20101018T035900Z
CATEGORIES:band, "/", dj
LOCATION:VIRGINIA BEACH
WEBSITE:
URL:
CONTACT:
ORGANIZER;CN="VBnightlife.com":https://vbnightlife.com/profile/admin
ATTACH;FMTTYPE="image/jpeg":http://storage.ning.com/topology/rest/1.0/
 file/get/1664117243?profile=original
ATTENDEE;ROLE=REQ-PARTICIPANT;PARTSTAT=ACCEPTED;RSVP=TRUE;CN="VBnightl
 ife.com":https://vbnightlife.com/profile/admin
END:VEVENT
END:VCALENDAR
