BEGIN:VCALENDAR
PRODID:NingEventWidget-v1
VERSION:2.0
METHOD:PUBLISH
BEGIN:VEVENT
UID:2508951:Event:36678
DTSTAMP:20260426T003246Z
SUMMARY:ALL EVENTS - click here
DESCRIPTION:\nAbbey Road - VB \"KEVIN KELLEY\" 9PM\nAJ Gators - VB Gen
 eral Booth *KARAOKE/DANCE PARTY* w/DJ Eddie 9pm\nBaja - VB \"PETE HANS
 EN AND LARRY EMANUEL\"\nCatch 31 - VB \"CHRISTOPHER KOROSHETZ\"\nCP Sh
 uckers - VB \"KEVIN KELLEY\" 2- 6PM\nCostal Grill - VB \"DIMITAR ZAREV
 \" 5:30pm\nDanceSportVA - VB *SOCIAL DANCE*\nDeja Blu - VB *DEJA BLU S
 TEPPERS*\nDocker's Restaurant & Karaoke Pub - VB *KARAOKE* 9pm\nFat Tu
 esdays - VB *KARAOKE*\nFunny Bone Comedy Club - VB \"STEVE BYRNE\" \"R
 YAN DALTON\"\nGreen Parrot - VB OPEN MIC /w \"BILLY GOODWIN\"\nH2O - V
 B - *OPEN MIC*\nHK on the Bay - VB \"SOUL HAVEN - OPEN MIC\" 9PM\nHook
 's Saltwater Grill - VB \"Shaggin' Sunday\" 4pm\nIl Giardino's - VB \"
 MILACHI PHILLIPS\" 6:30-10:30PM\nJewish Mother - VB \"ROBIN WELCH\" Cl
 assical Guitar 11am-1pm\nKeagan's Town Center - VB \"KARAOKE\"\nKempsv
 ille Ruritan - VB \"BROKEN BONDS\"\nLunasea - VB \"JESSE CHONG\"\nLuxu
 ry Brown - VB *KARAOKE*\nMurphy's Irish Pub - VB \"KARL WERNE\"\nOmega
  - VB *DJ ADD4RIGHT*\nPembroke Mall - VB \"SAFETY WORD ORANGE\"\nSammy
 ’s - VB *KARAOKE*\nSandler Center - VB *LWA DANCE PRESENTS A DECADE 
 OF DANCE*\nSouth Beach Grill - VB \"BORDERLINE CRAZY\"\nUpper Deck - V
 B *SHAG SUNDAY* W/DJ GARY \"US\" BARNES 4pm\n\n\nOUTDOOR EVENTS:\n7th 
 Street Stage - VB \"BUTTER\"\n17th Street Stage - VB \"BIGGER DREAM\"\
 n24th Street Stage - VB \"PLASTIC EDDIE\"\n31st Street Stage - VB \"SU
 NDAY MORNING CHURCH SERIVCE\" 9:30AM, \"TROPICAL STEEL\" 12PM, \"RIVER
  BOYZ BAND\" 6PM\nSANDBRIDGE ISLAND BAR & GRILLE - VB \"ED KELLEHER\" 
 3-7pm\n\nFor more information visit https://vbnightlife.com/events/all
 -events-click-here-431
DTSTART:20100613T040000Z
DTEND:20100614T035900Z
CATEGORIES:band, "/", dj
LOCATION:VIRGINIA BEACH
WEBSITE:
URL:
CONTACT:
ORGANIZER;CN="VBnightlife.com":https://vbnightlife.com/profile/admin
ATTACH;FMTTYPE="image/jpeg":http://storage.ning.com/topology/rest/1.0/
 file/get/1664108620?profile=original
ATTENDEE;ROLE=REQ-PARTICIPANT;PARTSTAT=ACCEPTED;RSVP=TRUE;CN="VBnightl
 ife.com":https://vbnightlife.com/profile/admin
END:VEVENT
END:VCALENDAR
