BEGIN:VCALENDAR
PRODID:NingEventWidget-v1
VERSION:2.0
METHOD:PUBLISH
BEGIN:VEVENT
UID:2508951:Event:36756
DTSTAMP:20260425T074842Z
SUMMARY:ALL EVENTS - click here
DESCRIPTION:\n\nLIVE ENTERTAINMENT/BANDS:\n15th STREET RAW BAR - VB \"
 SOUTHERN BLEND\"\nAbbey Road - VB \"LEWIS McGEHEE\"\nAJ Gators - VB Hi
 lltop \"LIVE ENTERTAINMENT\"\nBaja Sandbridge - VB \"EXPLODING SUN\"\n
 Baker Street - VB \"THE OFFICE\"\nBayside Inn - VB \"SPECIAL TOUCH BAN
 D OF PORTSMOUTH\"\nBig Apple Grill & Bar - VB \"MISTER KLEEN\"\nChicho
 's 29th Street - VB \"SUZY & THE NATURALS\"\nDeja Blue - VB \"MICHAEL 
 CLARK BAND\"\nFarmer's Market - VB \"COUNTRY REVIEW BAND\"\nFinn McCoo
 ls - VB \"JACK BECKER\" 9pm\nGeared Up - VB \"SEKSHUN 8\"\nGF Keagans 
 - VB \"BLACK N' MILD\"\nH20 - VB \"WOODWORK\"\nHK on the Bay - VB \"RI
 CH WHISKEY AUDITION\"\nHot Tuna - VB \"FOOLS N' HORSES\"\nIl Giardino'
 s - VB \"BILL BATTE\" 7:30-11:30PM\nJack's Bistro - VB \"KAYCE McGEHEE
 \"\nKeagan's Town Center - VB \"JOHN HARRELL\"\nKeagan's Pub & Grill -
  VB \"JACK BECKER\"\nKokoamos - VB \"PLASTIC EDDIE\"\nLendy's - VB \"S
 CHOLAR WORD\"\nLucky Oyster - VB \"DAVE CYNAR\"\nLuxury Brown - VB \"A
 GAINST ALL ODDS\" 6:30-9:30pm\nOtani - VB \"H M JOHNSON\"\nScandals - 
 VB \"RENDITION\"\nSmackwater Jack's - VB \"RUSSELL LYNCH & THE SOUTHER
 N DRUNKEN REPUBLICANS\"\nSouth Beach Grill - VB \"10-SPOT\"\nUpper Dec
 k - VB \"COOLIN' OUT\"\nWaterman's - VB \"JESSE CHONG\"\nWing King - V
 B \"BARTONES\"\n\nOUTDOOR EVENTS:\n7th Street Stage - VB \"CHEAP THRIL
 LS\"\n13th Street Stage - VB \"The Life & Music of Ella Fitzgerald\"\n
 17th Street Stage - VB *BLUES ON THE BOARDWALK* \"CHARLIE BAND\"\n24th
  Street Stage - VB \"Krendl & Company Magical Variety Show\"\n31st Str
 eet Stage - VB \"BEN PHELPS PROJECT\"\nEastminster Presbyterian Church
  - VB \"LANDON & JONATHAN\"\nSTRINGER'S 18th STREET CAFE - VB \"3 MEN 
 & A BOX\" 8pm\nVerizon Wireless Amp. - VB \"TOBY KEITH + JAMES OTTO\"\
 n\nTHEATRE/PLAYS/CONCERTS/SPORTS:\nFunny Bone Comedy Club - VB \"TRACY
  MORGAN\"\nSandler Center - VB \"NAJEE\"\n\nDJ'S/KARAOKE/DANCES:\nAkid
 o Studio - VB *LET'S DANCE* Dance Lessons $4\nAJ Gators - VB Fairfield
  *DJ*\nAJ Gators - VB Holland Rd. *DJ*\nAJ Gators - VB General Booth *
 KARAOKE* w/DJ\nBlarney Stone Pub - VB *KARAOKE*\nBrass Bell - VB *KARA
 OKE*\nCatch 31 SKy Bar - VB \"ANDY KIM DEEJAYING\" 10 PM\nCatherine’
 s - VB *KARAOKE*\nDocker's Restaurant & Karaoke Pub - VB *KARAOKE* 9pm
 \nFat Tuesdays - VB *KARAOKE*\nFly'n Fishbone - VB *CARIBBEAN FEVER - 
 BLAZING REGGAR-SOCA-HIP HOP* W/ DJ BADJOE\nFrankie's Place - VB *KARAO
 KE*\nFusha Lounge - VB *GUEST DJ*\nIke’s Sportz Bar - VB *KARAOKE*\n
 Omega Bar - VB *DJ DENVER*\nParlays - VB *DJ BUDDY LEE*\nSake - VB *DJ
  ATREVETE*\nSecrets - VB *KARAOKE*\nSide Street Cantina - VB *DJ WINST
 ON*\nUpper Deck - VB *SHAG MUSIC/DANCING*\n\nFor more information visi
 t https://vbnightlife.com/events/all-events-click-here-305
DTSTART:20100709T040000Z
DTEND:20100710T035900Z
CATEGORIES:band, "/", dj
LOCATION:VIRGINIA BEACH
WEBSITE:
URL:
CONTACT:
ORGANIZER;CN="VBnightlife.com":https://vbnightlife.com/profile/admin
ATTACH;FMTTYPE="image/jpeg":http://storage.ning.com/topology/rest/1.0/
 file/get/1664111394?profile=original
ATTENDEE;ROLE=REQ-PARTICIPANT;PARTSTAT=ACCEPTED;RSVP=TRUE;CN="VBnightl
 ife.com":https://vbnightlife.com/profile/admin
END:VEVENT
END:VCALENDAR
