BEGIN:VCALENDAR
PRODID:NingEventWidget-v1
VERSION:2.0
METHOD:PUBLISH
BEGIN:VEVENT
UID:2508951:Event:35056
DTSTAMP:20260425T215114Z
SUMMARY:ALL EVENTS - click here
DESCRIPTION:501 City Grill - VB \"BORDERLINE CRAZY\"\nAbbey Road - VB 
 \"MIKE PROFFITT\"\nAJ Gators - VB Fairfield *KARAOKE* w/DJ\nAJ Gators 
 - VB General Booth *KARAOKE* w/DJ\nBaker Street - VB \"THE DELOREANS\"
 \nBayside Inn - VB \"MUSICIANS COLLABORATION W/BARRY HICKS\"\nBoxx - V
 B *DJ JON RABB*\nClutch Bar & Grill - VB \"TEE MERONEY & HIS GRAND OLE
  ORCHESTRA\"\nCroc's - VB \"CHASING ARROWS\"\nCugini's Pizza & Pasta -
  VB \"MIKE HODGES AND WALTER POTTER\"\nDeja Blue - VB *OPEN MIC JAM* \
 "Bobby Blackhat & The Deja Blue Band\" $5\nDoc Taylor's - VB \"BEAST W
 ELLINGTON\" \"MARGAUX LeSOURD\" + \"MARK INGRAHAM\" + \"BEAST WELLINGT
 ON\"\nDocker's Restaurant & Karaoke Pub - VB *KARAOKE* 9pm\nFat Tuesda
 ys - VB *KARAOKE*\nFinn McCools - VB \"HEATHER JEANETTE\" 9pm\nFrankie
 's Place - VB *KARAOKE*\nH2O - VB \"JESSE CHONG\"\nHK on the Bay - VB 
 \"CALYPSO NUTS\"\nIcehouse - VB\nJewish Mother - VB \"THE SWELLERS, CR
 IME IN STEREO, THIS TIME NEXT YEAR\"\nKeagans - Town Center - VB \"STE
 VE FORSS\" 10pm\nKeagans Pub & Grill - VB *KARAOKE*\nKnuckleheads - VB
  \"CORY DANIEL BAND\"\nKokoamos - VB *FREEDOM FEST THURSDAYS* W/NICK G
 ARGIULO\nLendy’s - VB *KARAOKE*\nLunasea - VB \"HOT MESS\"\nMurphy's
  Irish Pub - VB \"JOHN ICKES\"\nOmega Bar - VB *NOCHE LATINA* W/ DJ AT
 REVETE\nParlay's - VB *DJ BUDDY LEE*\nSammy’s - VB *KARAOKE*\nSecret
 s - VB *KARAOKE*\nSouth Beach Grill - VB \"DESSERT DUST\"\nStarz - VB 
 *KARAOKE*\nWing King - VB \"SIX STRING SLINGER John Baldwin\"\n\nOUTDO
 OR EVENTS:\n31st Street Park - VB \"FINE SWISS CHEESE\" 6PM\n\nFor mor
 e information visit https://vbnightlife.com/events/all-events-click-he
 re-29
DTSTART:20100520T040000Z
DTEND:20100521T035900Z
CATEGORIES:band, "/", dj
LOCATION:VIRGINIA BEACH
WEBSITE:
URL:
CONTACT:
ORGANIZER;CN="VBnightlife.com":https://vbnightlife.com/profile/admin
ATTACH;FMTTYPE="image/jpeg":http://storage.ning.com/topology/rest/1.0/
 file/get/1664107032?profile=original
ATTENDEE;ROLE=REQ-PARTICIPANT;PARTSTAT=ACCEPTED;RSVP=TRUE;CN="VBnightl
 ife.com":https://vbnightlife.com/profile/admin
END:VEVENT
END:VCALENDAR
