BEGIN:VCALENDAR
PRODID:NingEventWidget-v1
VERSION:2.0
METHOD:PUBLISH
BEGIN:VEVENT
UID:2508951:Event:36720
DTSTAMP:20260420T121723Z
SUMMARY:ALL EVENTS - click here
DESCRIPTION:\nAbbey Road - VB \"KEVIN KELLEY\" 9PM\nAJ Gators - VB Gen
 eral Booth *KARAOKE/DANCE PARTY* w/DJ Eddie 9pm\nBayside Inn - VB \"SU
 NDAY NIGHT SPECIAL W/ERIC SHAW\"\nBaja Sandbridge - VB \"LEWIS McGEHEE
 \"\nBoneshakers - VB \"MOCEAN\" 3PM\nCalypso - VB *DJ - POOL PARTY*\nC
 entral 111 - VB *DJ IRENE*\nColbalt Cafe - VB \"DECOMPOSITION\"\nCosta
 l Grill - VB \"DIMITAR ZAREV\" 5:30pm\nCP Shuckers - VB \"KEVIN KELLEY
 \" 2- 6PM\nDeja Blu - VB *DEJA BLU STEPPERS*\nDocker's Restaurant & Ka
 raoke Pub - VB *KARAOKE* 9pm\nFat Tuesdays - VB *KARAOKE*\nFunny Bone 
 Comedy Club - VB \"JOSH BLUE\"\nGreen Parrot - VB *OPEN MIC W/BILLY GO
 ODWIN*\nH2O - VB - *OPEN MIC*\nHK on the Bay - VB \"SOUL HAVEN - OPEN 
 MIC\" 9PM\nHook's Saltwater Grill - VB \"Shaggin' Sunday\" 4pm\nIl Gia
 rdino's - VB \"MILACHI PHILLIPS\" 6:30-10:30PM\nJewish Mother - VB \"R
 OBIN WELCH\" Classical Guitar 11am-1pm\nKeagan's Town Center - VB \"KA
 RAOKE\"\nKokoamos - VB \"DOUG DUNN AND THE STEEL RIVER BAND\"\nLight H
 ouse Restaurant - 1201 Atlantic Ave - VB \"ED KELLEHER\" 8-11pm\nLunas
 ea - VB \"JESSE CHONG\"\nLuxury Brown - VB *KARAOKE*\nMurphy's Irish P
 ub - VB \"KARL WERNE\"\nOmega - VB *DJ ADD4RIGHT*\nRainbow Cactus Comp
 any - VB \"NAOMI BLACK\"\nSammy’s - VB *KARAOKE*\nSharx - VB \"TWO T
 ONE CADILLAC\"\nSkate High - VB \"THE KINDNESS OF STRANGERS\"\nSouth B
 each Grill - VB \"CARBON JAM\" 6pm to 10pm\nUpper Deck - VB \"JIM QUIC
 K & COASTLINE BAND\" 4PM\n\nOUTDOOR EVENTS:\n7th Street Stage - VB \"P
 ARTY FINS\"\n17th Street Stage - VB \"FLEETWOOD MAC: FLEETWOOD MIX\" 7
 :30PM, \"JOURNEY:FRONTIERS\" 9:30PM\n24th Street Stage - VB \"MARRAKES
 H EXPRESS\"\n31st Street Stage - VB \"A TRIBUTE TO THE KING: STERLING 
 RIGG\" 7:30PM, \"JIM SMITH\" 9:30PM\nSandbridge Island Bar & Grille - 
 VB \"ED KELLEHER\"\n\nFor more information visit https://vbnightlife.c
 om/events/all-events-click-here-282
DTSTART:20100627T040000Z
DTEND:20100628T035900Z
CATEGORIES:band, "/", dj
LOCATION:VIRGINIA BEACH
WEBSITE:
URL:
CONTACT:
ORGANIZER;CN="VBnightlife.com":https://vbnightlife.com/profile/admin
ATTACH;FMTTYPE="image/jpeg":http://storage.ning.com/topology/rest/1.0/
 file/get/1664108633?profile=original
ATTENDEE;ROLE=REQ-PARTICIPANT;PARTSTAT=ACCEPTED;RSVP=TRUE;CN="VBnightl
 ife.com":https://vbnightlife.com/profile/admin
END:VEVENT
END:VCALENDAR
