BEGIN:VCALENDAR
PRODID:NingEventWidget-v1
VERSION:2.0
METHOD:PUBLISH
BEGIN:VEVENT
UID:2508951:Event:36759
DTSTAMP:20260425T121701Z
SUMMARY:ALL EVENTS - click here
DESCRIPTION:\n\nLIVE ENTERTAINMENT/BANDS:\n15th Street Raw Bar - VB \"
 ELEMENT\"\n501 City Grill - VB \"LARGER THAN LIFE\"\nAbbey Road - VB \
 "LEWIS McGEHEE\"\nClub Relevant - VB \"SAFETY WORD ORANGE\"\nClutch Ba
 r & Grill - VB \"KEVIN KELLEY\"\nDiesel - VB \"BRIAN SEWELL\" 5:30-9:0
 0pm + \"TAILGATE DOWN\"\nFarmer's Market - VB\"\"E Z STREET BAND\"\nHK
  on the Bay - VB \"STEVE FORSS\"\nHook's Saltwater Grill - VB *OPEN MI
 C NIGHT*\nIl Giardino's - VB \"BILL BATTE\" 7:30-11:30PM\nJewish Mothe
 r - VB \"SONS OF BILL\"\nKeagan's Town Center - VB \"BRAD STREET\"\nKe
 agan's Pub & Grill - VB \"ERIC INSLEY\"\nKnuckleheads - VB \"RIVER BOY
 Z\"\nKokoamos - VB \"THE OFFICE\"\nLucky Oyster - VB \"ANDY HARRELL\"\
 nNew Moon Cafe - VB \"DAVE, KATE\" W/ ROCKABILLY SHEARIN\nSandbridge I
 sland Raw Bar - VB \"ED KELLEHER\"\nScandals - VB \"RENDITION\"\nSmack
 water's Jacks - VB \"EDDY FROM THE JETTY\"\nSouth Beach Grill - VB \"K
 RUNCH\"\nStarz - VB \"WILD HEART\"\nTiki Island Bar - VB \"JACK BECKER
 \"\nWing King - VB \"THE BARTONES\"\n\nOUTDOOR EVENTS:\n7th Street Sta
 ge - VB \"JULIUS PITTMAN REVIVAL\"\n13th Street Stage - VB \"The Life 
 & Music of Ella Fitzgerald\"\n17th Street Stage - VB *BLUES ON THE BOA
 RDWALK* \"HEATHER EDWARDS BAND\"\n24th Street Stage - VB \"Krendl & Co
 mpany Magical Variety Show\"\n30th Street - VB *HERMIT CRAB CHALLENGE*
  10AM-2PM\n31st Street Stage - VB \"AGAINST ALL ODDS\"\nFirst Landing 
 - VB *PLAY- 1607: FIRST LANDING* 6PM\n\nTHEATRE/PLAYS/CONCERTS/SPORTS:
 \nFunny Bone Comedy Club - VB \"TRACY MORGAN\"\n\nDJ'S/KARAOKE/DANCES:
 \nAJ Gators - VB Holland Rd. *KARAOKE* W/SCOTTY\nAJ Gators - VB Fairfi
 eld *KARAOKE* w/DJ\nAJ Gators - VB General Booth *KARAOKE* w/DJ\nBlarn
 ey Stone Pub - VB *KARAOKE*\nBrass Bell - VB *KARAOKE*\nCatch 31 Sky B
 ar - VB \"ANDY KIM DEEJAYING\" 10 PM\nCatherine’s - VB *KARAOKE*\nDo
 cker's Restaurant & Karaoke Pub - VB *KARAOKE* 9pm\nFrankie's Place - 
 VB *KARAOKE*\nHot Tuna - VB *ROCKYAOKE W/SPIN CITY*\nIke’s Sportz Ba
 r - VB *KARAOKE*\nLendy’s - VB *KARAOKE*\nSammy's - VB *KARAOKE*\nSe
 crets - VB *KARAOKE*\nTropicana Lounge - VB *SALSA DANCE LESSON* FREE\
 nUpper Deck - VB *WEST COAST SWING DANCE LESSONS* 6:30PM\n\nFor more i
 nformation visit https://vbnightlife.com/events/all-events-click-here-
 243
DTSTART:20100710T040000Z
DTEND:20100711T035900Z
CATEGORIES:band, "/", dj
LOCATION:VIRGINIA BEACH
WEBSITE:
URL:
CONTACT:
ORGANIZER;CN="VBnightlife.com":https://vbnightlife.com/profile/admin
ATTACH;FMTTYPE="image/jpeg":http://storage.ning.com/topology/rest/1.0/
 file/get/1664111582?profile=original
ATTENDEE;ROLE=REQ-PARTICIPANT;PARTSTAT=ACCEPTED;RSVP=TRUE;CN="VBnightl
 ife.com":https://vbnightlife.com/profile/admin
END:VEVENT
END:VCALENDAR
