BEGIN:VCALENDAR
PRODID:NingEventWidget-v1
VERSION:2.0
METHOD:PUBLISH
BEGIN:VEVENT
UID:2508951:Event:36675
DTSTAMP:20260425T231105Z
SUMMARY:ALL EVENTS - click here
DESCRIPTION:\nLIVE ENTERTAINMENT/BANDS:\nAbbey Road - VB \"GRIFFIN ALE
 XANDER\"\nBayside Inn - VB \"ULYSSES JOHNSON & VOCALIST ONLY\"\nBonesh
 akers - VB \"EDDY FROM THE JETTY\"\nChicho's 29th Street - VB \"1313\"
 \nClutch Bar & Grill - VB \"RIGHT COMBINATION BAND\"\nDiesel - VB \"BR
 IAN SEWELL\" 5:30-9:00pm + \"TAILGATE DOWN\"\nFinn McCools - VB \"BRAD
  STREET\" 9pm\nGreen Parrot - VB \"NATE & MITCH\"\nHook's Saltwater Gr
 ill - VB *OPEN MIC NIGHT*\nHot Tuna - VB \"ROCKSTAR PARKING\"\nIl Giar
 dino's - VB \"BILL BATTE\" 7:30-11:30PM\nJewish Mother - VB \"JESSE CH
 ONG BAND\"\nHK on the Bay - VB \"DESTINED NATION\"\nKeagan's Town Cent
 er - VB \"MARC WITH A K / UFC\"\nKokoamos - VB \"BORDERLINE CRAZY\"\nK
 nuckleheads - VB \"RENDITION\"\nLight House Restaurant - 1201 Atlantic
  Ave - VB \"ED KELLEHER\" 8-11pm\nLucky Oyster - VB \"BRANDON PETERS\"
 \nNew Moon Cafe - VB \"LARGER THAN LIFE\"\nPoppa's Pub - VB \"FOREFRON
 T\"\nScandals - VB \"BLUE LORDS\"\nSouth Beach Grill - VB \"KRUNCH\"\n
 Starz - VB \"WILD HEART\"\nWing King - VB \"NEW DIRECTION\"\n\nOUTDOOR
  EVENTS:\n7th Street Stage - VB \"QUIK FIX\"\n17th Street Stage - VB \
 "PLANET FULL OF BLUES\"\n24th Street Stage - VB *HARDEE'S LATIN FEST*\
 n12:45pm \"ZUMBA DANCE MARATHON W/LIANA VEDA\"\n1:15pm \"SOUL BRAZIL Y
  EL MOVIMENTO SAMBA\"\n2:45pm \"BANDA TECNO CALIENTE\"\n4:15pm \"ULTIM
 A NOTA\"\n6:00pm \"TOMBAO SAISERO\"\n7:45pm \"LEYDY BONILLA\"\n9:30pm 
 \"MAIA FE\"\n31st Street Stage - VB \"QUIKFIX\" \"ALMOST FAMOUS BAND\"
  12PM, \"MICHAEL CLARK BAND\" 7PM\nFirst Landing State Park - VB *SERT
 OMA SUMMER SIZZLER* W/ \"STRICKLY BIZZNESS + LOUIS SMITH\"\nOCEAN HOUS
 E - VB \"THE SUNDAWGS\" 8pm\nSANDBRIDGE ISLAND BAR & GRILLE - VB \"ED 
 KELLEHER\" 3-7pm\nSKYBAR - DJ ANDY KIM 10PM TO 1AM\n\n\nTHEATRE/PLAYS/
 CONCERTS/SPORTS:\nFunny Bone Comedy Club - VB \"STEVE BYRNE\"\nSandler
  Center - VB \"JOE MANISCALCO\"\n\n\nDJ'S/KARAOKE/DANCES:\nAJ Gators -
  VB Holland Rd. *KARAOKE* W/SCOTTY\nAJ Gators - VB Fairfield *KARAOKE*
  w/DJ\nAJ Gators - VB General Booth *KARAOKE* w/DJ\nBlarney Stone Pub 
 - VB *KARAOKE*\nBrass Bell - VB *KARAOKE*\nCinema Cafe - VB *SESIL J* 
 - PROTEGE OF MARVIN GAYE\nCatch 31 - VB \"ANDY KIM DEEJAYING\" 10 PM\n
 Catherine’s - VB *KARAOKE*\nDocker's Restaurant & Karaoke Pub - VB *
 KARAOKE* 9pm\nFamily Moose Center - VB *SOCIAL DANCE*\nFrankie's Place
  - VB *KARAOKE*\nIke’s Sportz Bar - VB *KARAOKE*\nLendy’s - VB *KA
 RAOKE*\nSake - VB *DJ RNS + DJ VITALI*\nSammy's - VB *KARAOKE*\nSecret
 s - VB *KARAOKE*\nSide Street Cantina - VB *DJ AETGY*\nTropicana Loung
 e - VB *SALSA DANCE LESSON* FREE\nUpper Deck - VB *WEST COAST SWING DA
 NCE LESSONS* 6:30PM\n\nFor more information visit https://vbnightlife.
 com/events/all-events-click-here-182
DTSTART:20100612T040000Z
DTEND:20100613T035900Z
CATEGORIES:band, "/", dj
LOCATION:VIRGINIA BEACH
WEBSITE:
URL:
CONTACT:
ORGANIZER;CN="VBnightlife.com":https://vbnightlife.com/profile/admin
ATTACH;FMTTYPE="image/jpeg":http://storage.ning.com/topology/rest/1.0/
 file/get/1664108604?profile=original
ATTENDEE;ROLE=REQ-PARTICIPANT;PARTSTAT=ACCEPTED;RSVP=TRUE;CN="VBnightl
 ife.com":https://vbnightlife.com/profile/admin
END:VEVENT
END:VCALENDAR
