BEGIN:VCALENDAR
PRODID:NingEventWidget-v1
VERSION:2.0
METHOD:PUBLISH
BEGIN:VEVENT
UID:2508951:Event:48332
DTSTAMP:20260419T190005Z
SUMMARY:ALL EVENTS - click here
DESCRIPTION:\nDEC 22ND WEDNESDAY\nENTERTAINMENT:Bookings can change at
  the last minute, so check with the club before you head out\nAbbey Ro
 ad - OPEN STAGE W/WARREN SEABURG Variety 8:30PM-12:30AMAJ Gators - Hol
 land Rd. *KARAOKE* w/Scotty 9pmBayside Bar & Grill - *COLLEGE NIGHT W/
 DJ PETE 5PM-2AMBrass Bell - *KARAOKE*Coastal Grill - DIMITAR ZAREV 5:3
 0pmDoc Taylor's Seaside Lounge - BIG WIDE GRIN 8-11PMDocker's Restaura
 nt & Karaoke Pub - *KARAOKE* 9PMFat Tuesdays - *KARAOKE*Frankie's Plac
 e - *KARAOKE*Green Onion - *DJ JEY ONE + DJ KID ICARUS*H2O - BORDERLIN
 E CRAZY 10PMHot Tuna - SNACKBAR JONESIl Giardino's - \"BILL BATTE\" 7:
 30-11:30PMKeagans Irish Restaurant Town Center - RICH WHISKEY 10PMLend
 y's - \"KARAOKE*Luxury Brown - *KARAOKE*Omega Bar - *LADIES NIGHT* W/D
 J SILVER 10pmSammy’s - *KARAOKE*Secrets - *KARAOKE*South Beach Grill
  - RIVER BOYZ 9PMStarz - *KARAOKE*Upper Deck - *SHAG CLUB MIX & MINGLE
 * 6:15pmWanna B's Karaoke Club & Restaurant - *KARAOKE* 7PMWing King -
  *KARAOKE*\n\nFor more information visit https://vbnightlife.com/event
 s/all-events-click-here-170
DTSTART:20101222T050000Z
DTEND:20101223T045900Z
CATEGORIES:band, "/", dj
LOCATION:VIRGINIA BEACH
WEBSITE:
URL:
CONTACT:
ORGANIZER;CN="VBnightlife.com":https://vbnightlife.com/profile/admin
ATTACH;FMTTYPE="image/jpeg":http://storage.ning.com/topology/rest/1.0/
 file/get/1664122636?profile=original
ATTENDEE;ROLE=REQ-PARTICIPANT;PARTSTAT=ACCEPTED;RSVP=TRUE;CN="VBnightl
 ife.com":https://vbnightlife.com/profile/admin
END:VEVENT
END:VCALENDAR
