BEGIN:VCALENDAR
PRODID:NingEventWidget-v1
VERSION:2.0
METHOD:PUBLISH
BEGIN:VEVENT
UID:2508951:Event:36714
DTSTAMP:20260420T163241Z
SUMMARY:ALL EVENTS - click here
DESCRIPTION:\nLIVE ENTERTAINMENT/BANDS:\n501 City Grill - VB \"LARGER 
 THAN LIFE\"\nAbbey Road - VB \"THE CALYPSO NUTS\"\nAJ Gators - VB Hill
 top \"LIVE ENTERTAINMENT\"\nBaja Sandbridge - VB \"HOTCAKES\"\nBaker S
 treet - VB \"THE OFFICE\"\nBayside Inn - VB \"SPECIAL TOUCH BAND OF PO
 RTSMOUTH\"\nChicho's 29th Street - VB \"NO DREADS\"\nDeja Blue - VB \"
 MICHAEL CLARK BAND\"\nGreen Parrot - VB \"DON GILL\"\nH2O - VB \"QUAD 
 POD\"\nHalf Shell - VB \"KARAMUSIC\"\nHK on the Bay - VB \"ALMOST FAMO
 US\"\nIl Giardino's - VB \"JIMMY HOPPER\" 9:30PM *ALS ASSOC BENEFIT - 
 $10*\nJewish Mother - VB \"SOUTHERN CULTURE\" W/GINA DALMAS & THE COW 
 TIPPIN PLAYBOYS\nKeagan's Town Center - VB \"MINK N CHEEF\"\nKeagan's 
 Pub & Grill - VB \"STEVE FORSS\"\nKnuckleheads - VB \"TAILGATE DOWN\"\
 nKokoamos - VB \"HEY HEY HOOLIGAN\"\nLendy's - VB \"MISTER KLEEN\"\nLi
 ght House Restaurant - VB \"ED KELLEHER\"\nLucky Oyster - VB \"THE JRB
 \"\nLuxury Brown - VB *LIVE JAZZ BAND*\nPoppa's Pub - VB \"BLIND TOONA
 \"\nRegal Beagle - VB \"SICMaN OF VIRGINIA\"\nSmackwater Jack's - VB \
 "MIKE HACKWORTH\"\nSouth Beach Grill - VB \"RIVER BOYZ\"\nStarz - VB \
 "RIGHT COMBINATION\"\nTiki Bar - VB \"DAVID CARTER\" 5-8PM\n\nOUTDOOR 
 EVENTS:\n7th Street Stage - VB \"GRIDLOCK 64\"\n17th Street Stage - VB
  *SANDSTOCK* \"HEART:HEARTLESS\" 7:30PM, \"QUEEN:ALMOST QUEEN\" 9:30PM
 \n24th Street Stage - VB *SANDSTOCK* \"CARBON JAM\" 7:30PM, \"THE DOOR
 S: THE SOFT PARADE\" 9PM\n31st Street Stage - VB \"ROLLING STONES: STI
 CKY FINGERS\"\"\nOcean House - VB \"THE SUNDAWGS\"\nSky Bar - VB - DJ 
 Steve Jackson\nStringer's 18th Street Cafe - VB \"3 MEN & A BOX\"\n\nT
 HEATRE/PLAYS/CONCERTS/SPORTS:\nFunny Bone Comedy Club - VB \"JOSH BLUE
 \"\n\nDJ'S/KARAOKE/DANCES:\nAkido Studio - VB *LET'S DANCE* Dance Less
 ons $4\nAJ Gators - VB Fairfield *DJ*\nAJ Gators - VB Holland Rd. *DJ*
 \nAJ Gators - VB General Booth *KARAOKE* w/DJ\nBlarney Stone Pub - VB 
 *KARAOKE*\nBrass Bell - VB *KARAOKE*\nCatch 31 Sky Bar - VB \"ANDY KIM
  DEEJAYING\" 10 PM\nCatherine’s - VB *KARAOKE*\nCentral 111 - VB *DJ
  KRISTO*\nDocker's Restaurant & Karaoke Pub - VB *KARAOKE* 9pm\nFat Tu
 esdays - VB *KARAOKE*\nFly'n Fishbone - VB *CARIBBEAN FEVER - BLAZING 
 REGGAR-SOCA-HIP HOP* W/ DJ BADJOE\nFrankie's Place - VB *KARAOKE*\nFus
 ha Lounge - VB *GUEST DJ*\nHot Tuna - VB *DJ CAN ROCK*\nIke’s Sportz
  Bar - VB *KARAOKE*\nParlays - VB *DJ BUDDY LEE*\nSake - VB *DJ KONCEP
 T*\nSecrets - VB *KARAOKE*\nSharx - VB *DJ NIGHT*\nSide Street Cantina
  - VB *DJ WINSTON*\n\nFor more information visit https://vbnightlife.c
 om/events/all-events-click-here-152
DTSTART:20100625T040000Z
DTEND:20100626T035900Z
CATEGORIES:band, "/", dj
LOCATION:VIRGINIA BEACH
WEBSITE:
URL:
CONTACT:
ORGANIZER;CN="VBnightlife.com":https://vbnightlife.com/profile/admin
ATTACH;FMTTYPE="image/jpeg":http://storage.ning.com/topology/rest/1.0/
 file/get/1664109113?profile=original
ATTENDEE;ROLE=REQ-PARTICIPANT;PARTSTAT=ACCEPTED;RSVP=TRUE;CN="VBnightl
 ife.com":https://vbnightlife.com/profile/admin
END:VEVENT
END:VCALENDAR
