BEGIN:VCALENDAR
PRODID:NingEventWidget-v1
VERSION:2.0
METHOD:PUBLISH
BEGIN:VEVENT
UID:2508951:Event:318437
DTSTAMP:20260424T104553Z
SUMMARY:ALLEN  B. WEST AT VIRGINIA BEACH FORUM
DESCRIPTION:Allen B. West Decorated Army Veteran and Former Congressm
 an Wednesday, November 4, 2015; 7:30PM\nBorn and raised in the same At
 lanta, Georgia neighborhood where Dr. Martin Luther King, Jr., once pr
 eached, Allen West is a decorated American serviceman, teacher and con
 gressman who bravely served his country in the Iraq War and reached th
 e rank of Lt. Col. in the Army. After 22 years of military service, an
 d a brief time as a high school teacher, he was elected to serve Flori
 da’s 22nd District in the United States Congress. West is president 
 & CEO of the National Center for Policy Analysis, a Fox News contribut
 or, a senior fellow at the London Center for Policy Research and regul
 arly writes for numerous media outlets. He is the author of the Guardi
 an of the Republic: An American Ronin’s Journey to Faith, Family an
 d Freedom (Random House, April 2014).\n\nAs a prior representative of
  Florida, Lt. Col. West will enlighten us with his views on the extrem
 ely crowded Republican field of presidential contenders and the race f
 or the White House.\n\nPURCHASE TICKETS IN PERSON AT THE SANDLER CENTE
 R BOX OFFICE FOR $38\nOR\nPURCHASE ONLINE HERE FOR $53.50 INCLUDING FE
 ES: http://ev8.evenue.net/cgi-bin/ncommerce3/SEGetEventInfo?ticketCod
 e=GS%3ASC%3ASC16%3AVBFWEST%3A&linkID=global-sandler&shopperContext=&pc
 =&caller=&appCode=&groupCode=&cgc\n\nSEE MORE INFORMATION ON THE VIRGI
 NIA BEACH FORUM HERE:http://www.vabeachforum.com/\n\nFor more informat
 ion visit https://vbnightlife.com/events/alan-west-at-virginia-beach-f
 orum
DTSTART:20151105T003000Z
DTEND:20151105T013000Z
CATEGORIES:"virginia beach", "virginia beach nightlife", "virginia bea
 ch events", "virginia beach entertainment", "events in virginia beach"
 , "things to do in virginia beach", "mobile app virginia beach"
LOCATION:Sandler Center for the Performing Arts
WEBSITE:
URL:
CONTACT:
ORGANIZER:VBnightlife.com / vbdaylife / VIRGINIA BEACH FORUM
ATTACH;FMTTYPE="image/jpeg":http://storage.ning.com/topology/rest/1.0/
 file/get/1664289896?profile=original
ATTENDEE;ROLE=REQ-PARTICIPANT;PARTSTAT=ACCEPTED;RSVP=TRUE;CN="VBnightl
 ife.com":https://vbnightlife.com/profile/admin
END:VEVENT
END:VCALENDAR
