BEGIN:VCALENDAR
PRODID:NingEventWidget-v1
VERSION:2.0
METHOD:PUBLISH
BEGIN:VEVENT
UID:2508951:Event:207861
DTSTAMP:20260423T133348Z
SUMMARY:Al Petteway and Amy White concert
DESCRIPTION:Concert by Al Petteway and Amy White.  Details at http://
 www.tffm.org/concerts/2012-12-01/Al_Petteway_%26_Amy_White.html\n\nFor
  more information visit https://vbnightlife.com/events/al-petteway-and
 -amy-white-concert
DTSTART:20121202T000000Z
DTEND:20121202T024500Z
CATEGORIES:acoustic, music, concert
LOCATION:Meyera Oberndorf Virginia Beach Central Library
WEBSITE:http://www.tffm.org/concerts/2012-12-01/Al_Petteway_%26_Amy_Wh
 ite.html
URL:http://www.tffm.org/concerts/2012-12-01/Al_Petteway_%26_Amy_White.
 html
CONTACT:
ORGANIZER;CN="Kenneth Brock":https://vbnightlife.com/profile/KennethBr
 ock
ATTACH;FMTTYPE="image/jpeg":http://storage.ning.com/topology/rest/1.0/
 file/get/1664183891?profile=original
ATTENDEE;ROLE=REQ-PARTICIPANT;PARTSTAT=ACCEPTED;RSVP=TRUE;CN="Kenneth 
 Brock":https://vbnightlife.com/profile/KennethBrock
END:VEVENT
END:VCALENDAR
